

BEGIN:VCALENDAR
VERSION:2.0
PRODID:-//World UltraCycling Association - ECPv6.9.1//NONSGML v1.0//EN
CALSCALE:GREGORIAN
METHOD:PUBLISH
X-ORIGINAL-URL:https://staging.ultracycling.com
X-WR-CALDESC:Events for World UltraCycling Association
REFRESH-INTERVAL;VALUE=DURATION:PT1H
X-Robots-Tag:noindex
X-PUBLISHED-TTL:PT1H
BEGIN:VTIMEZONE
TZID:America/Los_Angeles
BEGIN:DAYLIGHT
TZOFFSETFROM:-0800
TZOFFSETTO:-0700
TZNAME:PDT
DTSTART:20190310T100000
END:DAYLIGHT
BEGIN:STANDARD
TZOFFSETFROM:-0700
TZOFFSETTO:-0800
TZNAME:PST
DTSTART:20191103T090000
END:STANDARD
BEGIN:DAYLIGHT
TZOFFSETFROM:-0800
TZOFFSETTO:-0700
TZNAME:PDT
DTSTART:20200308T100000
END:DAYLIGHT
BEGIN:STANDARD
TZOFFSETFROM:-0700
TZOFFSETTO:-0800
TZNAME:PST
DTSTART:20201101T090000
END:STANDARD
BEGIN:DAYLIGHT
TZOFFSETFROM:-0800
TZOFFSETTO:-0700
TZNAME:PDT
DTSTART:20210314T100000
END:DAYLIGHT
BEGIN:STANDARD
TZOFFSETFROM:-0700
TZOFFSETTO:-0800
TZNAME:PST
DTSTART:20211107T090000
END:STANDARD
BEGIN:DAYLIGHT
TZOFFSETFROM:-0800
TZOFFSETTO:-0700
TZNAME:PDT
DTSTART:20220313T100000
END:DAYLIGHT
BEGIN:STANDARD
TZOFFSETFROM:-0700
TZOFFSETTO:-0800
TZNAME:PST
DTSTART:20221106T090000
END:STANDARD
BEGIN:DAYLIGHT
TZOFFSETFROM:-0800
TZOFFSETTO:-0700
TZNAME:PDT
DTSTART:20230312T100000
END:DAYLIGHT
BEGIN:STANDARD
TZOFFSETFROM:-0700
TZOFFSETTO:-0800
TZNAME:PST
DTSTART:20231105T090000
END:STANDARD
TZID:Europe/Helsinki
BEGIN:DAYLIGHT
TZOFFSETFROM:+0200
TZOFFSETTO:+0300
TZNAME:EEST
DTSTART:20190331T010000
END:DAYLIGHT
BEGIN:STANDARD
TZOFFSETFROM:+0300
TZOFFSETTO:+0200
TZNAME:EET
DTSTART:20191027T010000
END:STANDARD
BEGIN:DAYLIGHT
TZOFFSETFROM:+0200
TZOFFSETTO:+0300
TZNAME:EEST
DTSTART:20200329T010000
END:DAYLIGHT
BEGIN:STANDARD
TZOFFSETFROM:+0300
TZOFFSETTO:+0200
TZNAME:EET
DTSTART:20201025T010000
END:STANDARD
BEGIN:DAYLIGHT
TZOFFSETFROM:+0200
TZOFFSETTO:+0300
TZNAME:EEST
DTSTART:20210328T010000
END:DAYLIGHT
BEGIN:STANDARD
TZOFFSETFROM:+0300
TZOFFSETTO:+0200
TZNAME:EET
DTSTART:20211031T010000
END:STANDARD
TZID:Europe/Paris
BEGIN:DAYLIGHT
TZOFFSETFROM:+0100
TZOFFSETTO:+0200
TZNAME:CEST
DTSTART:20200329T010000
END:DAYLIGHT
BEGIN:STANDARD
TZOFFSETFROM:+0200
TZOFFSETTO:+0100
TZNAME:CET
DTSTART:20201025T010000
END:STANDARD
BEGIN:DAYLIGHT
TZOFFSETFROM:+0100
TZOFFSETTO:+0200
TZNAME:CEST
DTSTART:20210328T010000
END:DAYLIGHT
BEGIN:STANDARD
TZOFFSETFROM:+0200
TZOFFSETTO:+0100
TZNAME:CET
DTSTART:20211031T010000
END:STANDARD
TZID:America/Denver
BEGIN:DAYLIGHT
TZOFFSETFROM:-0700
TZOFFSETTO:-0600
TZNAME:MDT
DTSTART:20190310T090000
END:DAYLIGHT
BEGIN:STANDARD
TZOFFSETFROM:-0600
TZOFFSETTO:-0700
TZNAME:MST
DTSTART:20191103T080000
END:STANDARD
BEGIN:DAYLIGHT
TZOFFSETFROM:-0700
TZOFFSETTO:-0600
TZNAME:MDT
DTSTART:20200308T090000
END:DAYLIGHT
BEGIN:STANDARD
TZOFFSETFROM:-0600
TZOFFSETTO:-0700
TZNAME:MST
DTSTART:20201101T080000
END:STANDARD
BEGIN:DAYLIGHT
TZOFFSETFROM:-0700
TZOFFSETTO:-0600
TZNAME:MDT
DTSTART:20210314T090000
END:DAYLIGHT
BEGIN:STANDARD
TZOFFSETFROM:-0600
TZOFFSETTO:-0700
TZNAME:MST
DTSTART:20211107T080000
END:STANDARD
TZID:America/Chicago
BEGIN:DAYLIGHT
TZOFFSETFROM:-0600
TZOFFSETTO:-0500
TZNAME:CDT
DTSTART:20200308T080000
END:DAYLIGHT
BEGIN:STANDARD
TZOFFSETFROM:-0500
TZOFFSETTO:-0600
TZNAME:CST
DTSTART:20201101T070000
END:STANDARD
BEGIN:DAYLIGHT
TZOFFSETFROM:-0600
TZOFFSETTO:-0500
TZNAME:CDT
DTSTART:20210314T080000
END:DAYLIGHT
BEGIN:STANDARD
TZOFFSETFROM:-0500
TZOFFSETTO:-0600
TZNAME:CST
DTSTART:20211107T070000
END:STANDARD
TZID:America/New_York
BEGIN:DAYLIGHT
TZOFFSETFROM:-0500
TZOFFSETTO:-0400
TZNAME:EDT
DTSTART:20200308T070000
END:DAYLIGHT
BEGIN:STANDARD
TZOFFSETFROM:-0400
TZOFFSETTO:-0500
TZNAME:EST
DTSTART:20201101T060000
END:STANDARD
BEGIN:DAYLIGHT
TZOFFSETFROM:-0500
TZOFFSETTO:-0400
TZNAME:EDT
DTSTART:20210314T070000
END:DAYLIGHT
BEGIN:STANDARD
TZOFFSETFROM:-0400
TZOFFSETTO:-0500
TZNAME:EST
DTSTART:20211107T060000
END:STANDARD
TZID:UTC
BEGIN:STANDARD
TZOFFSETFROM:+0000
TZOFFSETTO:+0000
TZNAME:UTC
DTSTART:20200101T000000
END:STANDARD
TZID:America/Los_Angeles
BEGIN:DAYLIGHT
TZOFFSETFROM:-0800
TZOFFSETTO:-0700
TZNAME:PDT
DTSTART:20190310T100000
END:DAYLIGHT
BEGIN:STANDARD
TZOFFSETFROM:-0700
TZOFFSETTO:-0800
TZNAME:PST
DTSTART:20191103T090000
END:STANDARD
END:VTIMEZONE
BEGIN:VEVENT
DTSTART;TZID=America/Los_Angeles:20231104T050000
DTEND;TZID=America/Los_Angeles:20231104T170000
DTSTAMP:20260420T211947
CREATED:20230830T003151Z
LAST-MODIFIED:20230929T174723Z
UID:36468-1699074000-1699117200@staging.ultracycling.com
SUMMARY:6/12/24 "World Time Trial Championship"\, 12hr (2023)
DESCRIPTION:A popular and highly competitive event\, run in the flat desert east of San Diego\, CA.  The course runs on an 18mi\, mostly-flat loop\, changing to a shorter loop for the last portion of the available time.  The event often fills\, so registration as early as possible is advised. (Note\, while the name of this event includes the wording as world championship\, it is not sanctioned as such by WUCA and the bonus points associated with that status do not apply.)
URL:https://staging.ultracycling.com/calendar/borrego-springs-time-trial-12hr-2023/
CATEGORIES:12 Hour,Timed
ORGANIZER;CN="Rick Boethling":MAILTO:info@raceacrossamerica.org
END:VEVENT
BEGIN:VEVENT
DTSTART;TZID=America/Los_Angeles:20230909T080000
DTEND;TZID=America/Los_Angeles:20230909T200000
DTSTAMP:20260420T211947
CREATED:20230825T023045Z
LAST-MODIFIED:20230825T023045Z
UID:36458-1694246400-1694289600@staging.ultracycling.com
SUMMARY:Ring of Fire\, 12hr TT\, 2023
DESCRIPTION:The Ring of Fire 12 features courses which begin and end at the Imperial River Company in Maupin\, OR.  You will NOT set mileage PRs at this event as the routes are not flat.  These will test your overall skills as a rider with climbs\, descents\, cross winds\, head winds and even some flats with tailwinds! 
URL:https://staging.ultracycling.com/calendar/ring-of-fire-12hr-tt-2023/
CATEGORIES:12 Hour
ORGANIZER;CN="George Thomas":MAILTO:raogeorge@gmail.com
END:VEVENT
BEGIN:VEVENT
DTSTART;TZID=America/Los_Angeles:20230812T060000
DTEND;TZID=America/Los_Angeles:20230812T180000
DTSTAMP:20260420T211947
CREATED:20230622T015124Z
LAST-MODIFIED:20230804T161237Z
UID:34118-1691820000-1691863200@staging.ultracycling.com
SUMMARY:Mid Atlantic Ultra 12\, 2023
DESCRIPTION:We feature a non drafting 24 hour RAAM qualifier race and a drafting 12 hour race\, along with a 100 Mile Race. A non competitive century ride is also an option for those looking to enjoy a more leisurely pace.\nThe 26 mile loop will take you through rural areas of Beaufort County. We are located in the coastal region of North Carolina. This is an extremely flat course! It is the perfect venue for riders that are self supported. You are allowed to park your vehicle inside the secure “Bus” parking lot. This is what serves as the Start/Finish line\, you will pass by the time check after each lap. So feel free to set up your supplies for the day. There is a grassy area that you can set up a canopy for your crew as well. On site setup is to begin no earlier than 5am on day of event and must be removed by 10am the following morning. Online registration is available at BikeReg.com.
URL:https://staging.ultracycling.com/calendar/mid-atlantic-ultra-12-2023-3/
CATEGORIES:12 Hour
END:VEVENT
BEGIN:VEVENT
DTSTART;TZID=America/Los_Angeles:20230715T040000
DTEND;TZID=America/Los_Angeles:20230715T040000
DTSTAMP:20260420T211947
CREATED:20230622T015122Z
LAST-MODIFIED:20230718T162617Z
UID:33147-1689393600-1689393600@staging.ultracycling.com
SUMMARY:Slo12 Ultra 2023
DESCRIPTION:The race starts in town of Dobrovnik on North-East of Slovenia\, by the border with Hungary. The race route is a flat 11km loop through two municipalities\, Dobrovnik and Turnisce.
URL:https://staging.ultracycling.com/calendar/slo12-ultra-2023/
CATEGORIES:12 Hour
ATTACH;FMTTYPE=image/jpeg:https://staging.ultracycling.com/wp-content/uploads/2023/01/slo24-ultra_0.jpg
ORGANIZER;CN="Marko Baloh":MAILTO:marko@markobaloh.com
END:VEVENT
BEGIN:VEVENT
DTSTART;VALUE=DATE:20211007
DTEND;VALUE=DATE:20211008
DTSTAMP:20260420T211947
CREATED:20210218T014622Z
LAST-MODIFIED:20210218T014622Z
UID:23482-1633564800-1633651199@staging.ultracycling.com
SUMMARY:IL24TE – Israeli 12 Hour 2021
DESCRIPTION:A main loop of 27.6km on quiet\, flat\, roads south of Tel Aviv
URL:https://staging.ultracycling.com/calendar/il24te-israeli-12-hour-2021/
LOCATION:IL24TE Start\, Urim Junction\, Israel
CATEGORIES:12 Hour,Timed
ATTACH;FMTTYPE=image/jpeg:https://staging.ultracycling.com/wp-content/uploads/2016/11/Israel.jpg
ORGANIZER;CN="IL24TE":MAILTO:israel24te@gmail.com
END:VEVENT
BEGIN:VEVENT
DTSTART;TZID=Europe/Paris:20210731T070000
DTEND;TZID=Europe/Paris:20210731T190000
DTSTAMP:20260420T211947
CREATED:20210201T141142Z
LAST-MODIFIED:20210201T141142Z
UID:23413-1627714800-1627758000@staging.ultracycling.com
SUMMARY:Slo12 Ultra 2021
DESCRIPTION:The race starts in town of Dobrovnik on North-East of Slovenia\, by the border with Hungary. The race route is a flat 11km loop through two municipalities\, Dobrovnik and Turnisce
URL:https://staging.ultracycling.com/calendar/slo12-ultra-2021/
LOCATION:Slo24 Venue\, Dobrovnik\, Slovenia
CATEGORIES:12 Hour,Championship,Timed
ATTACH;FMTTYPE=image/png:https://staging.ultracycling.com/wp-content/uploads/2016/11/Logo-Slo-24-Ultra-e1481209440204.png
ORGANIZER;CN="Marko Baloh":MAILTO:marko@markobaloh.com
END:VEVENT
BEGIN:VEVENT
DTSTART;VALUE=DATE:20210606
DTEND;VALUE=DATE:20210607
DTSTAMP:20260420T211947
CREATED:20201209T224956Z
LAST-MODIFIED:20201209T224956Z
UID:23219-1622937600-1623023999@staging.ultracycling.com
SUMMARY:12 Hours In The Canyon 2021
DESCRIPTION:A popular event with all proceeds to help cancer survivors.
URL:https://staging.ultracycling.com/calendar/12-hours-in-the-canyon-2021/
LOCATION:24H in the Canyon Start – Palo Duro Canyon\, 11450 State Hwy Park Rd 5\, Canyon\, TX\, 79015\, United States
CATEGORIES:12 Hour,Timed
ATTACH;FMTTYPE=image/png:https://staging.ultracycling.com/wp-content/uploads/2016/11/canyon2-e1482422658401.png
ORGANIZER;CN="24 Hours in the Canyon":MAILTO:info@24hoursinthecanyon.org
END:VEVENT
BEGIN:VEVENT
DTSTART;VALUE=DATE:20210605
DTEND;VALUE=DATE:20210606
DTSTAMP:20260420T211947
CREATED:20210201T170329Z
LAST-MODIFIED:20210201T170329Z
UID:23419-1622851200-1622937599@staging.ultracycling.com
SUMMARY:Big Jay's Ultra Cycling Challenge (12-hour) 2021
DESCRIPTION:Course is a low traffic\, flat\, 25 mile loop with easy to follow road markings
URL:https://staging.ultracycling.com/calendar/big-jays-12-hour-race-2021/
LOCATION:2162 125E in rural Mahomet\, 2162 125E\, Mahomet\, IL\, United States
CATEGORIES:12 Hour,Timed
END:VEVENT
BEGIN:VEVENT
DTSTART;VALUE=DATE:20210522
DTEND;VALUE=DATE:20210523
DTSTAMP:20260420T211947
CREATED:20201205T004914Z
LAST-MODIFIED:20201205T004914Z
UID:23151-1621641600-1621727999@staging.ultracycling.com
SUMMARY:Maryland Endurance Challenge 12-Hour\, 2021
DESCRIPTION:Three (very scenic) 34.2-mile loops followed by a 6.6-mile loop\, all monitored by timing chips. This will be a drafting-legal event.
URL:https://staging.ultracycling.com/calendar/maryland-endurance-challenge-12-hour-2021/
LOCATION:Mount St. Mary’s University\, 16300 Old Emmitsburg Rd\, Emmitsburg\, MD\, 21727\, United States
CATEGORIES:12 Hour,Championship,Timed
ATTACH;FMTTYPE=image/png:https://staging.ultracycling.com/wp-content/uploads/2017/11/MD-Endurance-Challenge-logo-ORIGINAL-300x263.png
ORGANIZER;CN="SHIP of Frederick County":MAILTO:organizer@mdendurancechallenge.com
END:VEVENT
BEGIN:VEVENT
DTSTART;VALUE=DATE:20210403
DTEND;VALUE=DATE:20210404
DTSTAMP:20260420T211947
CREATED:20200710T145300Z
LAST-MODIFIED:20201204T220425Z
UID:22325-1617408000-1617494399@staging.ultracycling.com
SUMMARY:Bessie's Creek 12 Hour 2021
DESCRIPTION:
URL:https://staging.ultracycling.com/calendar/bessies-creek-12-hour-2021/
CATEGORIES:12 Hour,Timed
END:VEVENT
BEGIN:VEVENT
DTSTART;VALUE=DATE:20201003
DTEND;VALUE=DATE:20201004
DTSTAMP:20260420T211947
CREATED:20200116T143843Z
LAST-MODIFIED:20200710T144749Z
UID:21549-1601683200-1601769599@staging.ultracycling.com
SUMMARY:Bessie's Creek 12 Hour  (Cancelled for 2020)
DESCRIPTION:
URL:https://staging.ultracycling.com/calendar/bessies-creek-12-hour-2020/
CATEGORIES:12 Hour,Timed
END:VEVENT
BEGIN:VEVENT
DTSTART;VALUE=DATE:20200930
DTEND;VALUE=DATE:20201002
DTSTAMP:20260420T211947
CREATED:20200113T040355Z
LAST-MODIFIED:20200113T040355Z
UID:21523-1601424000-1601596799@staging.ultracycling.com
SUMMARY:Brands Hatch Revolve 12 2020
DESCRIPTION:12 hours of racing around the legendary Brand’s Hatch motor racing circuit
URL:https://staging.ultracycling.com/calendar/brands-hatch-revolve-12-2020/
LOCATION:Brand’s Hatch\, West Kingsdown\, Longfield\, DA3 8PU\, United States
CATEGORIES:12 Hour,Timed
ATTACH;FMTTYPE=image/jpeg:https://staging.ultracycling.com/wp-content/uploads/2016/11/Revolve-12-e1479748688967.jpg
ORGANIZER;CN="Revolve 24":MAILTO:r24team@revolve24.com
END:VEVENT
BEGIN:VEVENT
DTSTART;VALUE=DATE:20200927
DTEND;VALUE=DATE:20200928
DTSTAMP:20260420T211947
CREATED:20191017T022836Z
LAST-MODIFIED:20200116T151013Z
UID:21195-1601164800-1601251199@staging.ultracycling.com
SUMMARY:Ultra-cycling Italia Time Trial\, 12-hour 2020
DESCRIPTION:2020 Marks the first edition of Ultra-cycling Italia’s time trial series\, featuring 6\, 12 and 24 hour timed events. \nStart and ceremonies to be held at Sports Valcervano area\, Via Cervano\, Bagnolo Park of San Pietro di Feletto
URL:https://staging.ultracycling.com/calendar/ultra-cycling-italia-time-trial-12-hour/
CATEGORIES:12 Hour,Timed
ORGANIZER;CN="Ultracycling Italia":MAILTO:info.timetrial@gmail.com
END:VEVENT
BEGIN:VEVENT
DTSTART;VALUE=DATE:20200919
DTEND;VALUE=DATE:20200920
DTSTAMP:20260420T211947
CREATED:20190918T143542Z
LAST-MODIFIED:20200117T134347Z
UID:21100-1600473600-1600559999@staging.ultracycling.com
SUMMARY:Texas Time Trials 12H TT 2020
DESCRIPTION:The course is a scenic and challenging 26.5 mile loop\, with all riders completing 79.5 miles in 12 hours receiving a trophy.
URL:https://staging.ultracycling.com/calendar/texas-12-2020/
LOCATION:Glen Rose City Park (Rodeo Park)\, 1600 Northeast Big Bend Trail\, 1600 Northeast Big Bend Trail\, TX\, 76033\, United States
CATEGORIES:12 Hour,Timed
ATTACH;FMTTYPE=image/jpeg:https://staging.ultracycling.com/wp-content/uploads/2017/01/TT-logo.jpg
ORGANIZER;CN="Holland Racing":MAILTO:andrew.willis@hollandracing.net kelley.ables@hollandracing.net
END:VEVENT
BEGIN:VEVENT
DTSTART;VALUE=DATE:20200917
DTEND;VALUE=DATE:20200918
DTSTAMP:20260420T211947
CREATED:20190907T120905Z
LAST-MODIFIED:20200128T151522Z
UID:21017-1600300800-1600387199@staging.ultracycling.com
SUMMARY:IL24TE – Israeli 12 Hour 2020
DESCRIPTION:A main loop of 27.6km on quiet\, flat\, roads south of Tel Aviv
URL:https://staging.ultracycling.com/calendar/il24te-israeli-12-hour-2020/
LOCATION:IL24TE Start\, Urim Junction\, Israel
CATEGORIES:12 Hour,Timed
ATTACH;FMTTYPE=image/jpeg:https://staging.ultracycling.com/wp-content/uploads/2016/11/Israel.jpg
ORGANIZER;CN="IL24TE":MAILTO:israel24te@gmail.com
END:VEVENT
BEGIN:VEVENT
DTSTART;VALUE=DATE:20200830
DTEND;VALUE=DATE:20200831
DTSTAMP:20260420T211947
CREATED:20190907T132004Z
LAST-MODIFIED:20200321T002155Z
UID:21035-1598745600-1598831999@staging.ultracycling.com
SUMMARY:12 Hours In The Canyon 2020
DESCRIPTION:A popular event with all proceeds to help cancer survivors.
URL:https://staging.ultracycling.com/calendar/12-hours-in-the-canyon-2020/
LOCATION:24H in the Canyon Start – Palo Duro Canyon\, 11450 State Hwy Park Rd 5\, Canyon\, TX\, 79015\, United States
CATEGORIES:12 Hour,Timed
ATTACH;FMTTYPE=image/png:https://staging.ultracycling.com/wp-content/uploads/2016/11/canyon2-e1482422658401.png
ORGANIZER;CN="24 Hours in the Canyon":MAILTO:info@24hoursinthecanyon.org
END:VEVENT
BEGIN:VEVENT
DTSTART;VALUE=DATE:20200823
DTEND;VALUE=DATE:20200824
DTSTAMP:20260420T211947
CREATED:20200113T035802Z
LAST-MODIFIED:20200116T140542Z
UID:21519-1598140800-1598227199@staging.ultracycling.com
SUMMARY:RTTC National 12H Championship 2020
DESCRIPTION:
URL:https://staging.ultracycling.com/calendar/rttc-national-12h-championship-2020/
LOCATION:ECCA TT Start\, Great Chesterford\, United Kingdom
CATEGORIES:12 Hour,Timed
ATTACH;FMTTYPE=image/jpeg:https://staging.ultracycling.com/wp-content/uploads/2017/01/ECCA.jpg
END:VEVENT
BEGIN:VEVENT
DTSTART;VALUE=DATE:20200815
DTEND;VALUE=DATE:20200816
DTSTAMP:20260420T211947
CREATED:20200518T203937Z
LAST-MODIFIED:20200628T003831Z
UID:22133-1597449600-1597535999@staging.ultracycling.com
SUMMARY:Mid-Atlantic 12 2020
DESCRIPTION:
URL:https://staging.ultracycling.com/calendar/mid-atlantic-12-2020/
LOCATION:Washington High School\, 400 Slatestone Road\, Washington\, NC\, 27889\, United States
CATEGORIES:12 Hour,Championship,Timed
ORGANIZER;CN="Mid-Atlantic Ultra Sports":MAILTO:maxwell@midatlanticultrasports.com
END:VEVENT
BEGIN:VEVENT
DTSTART;VALUE=DATE:20200802
DTEND;VALUE=DATE:20200803
DTSTAMP:20260420T211947
CREATED:20200113T035517Z
LAST-MODIFIED:20200113T035517Z
UID:21517-1596326400-1596412799@staging.ultracycling.com
SUMMARY:CC Breckland 12hr TT 2020
DESCRIPTION:
URL:https://staging.ultracycling.com/calendar/cc-breckland-12hr-tt-2020/
LOCATION:CC Breckland TT Start\, Hingham\, United Kingdom
CATEGORIES:12 Hour,Timed
ATTACH;FMTTYPE=image/jpeg:https://staging.ultracycling.com/wp-content/uploads/2017/01/Breckland-12H.jpg
END:VEVENT
BEGIN:VEVENT
DTSTART;VALUE=DATE:20200802
DTEND;VALUE=DATE:20200803
DTSTAMP:20260420T211947
CREATED:20191102T142751Z
LAST-MODIFIED:20200730T180518Z
UID:21234-1596326400-1596412799@staging.ultracycling.com
SUMMARY:24h del Montello\, Twelve Hour 2020
DESCRIPTION:
URL:https://staging.ultracycling.com/calendar/24h-del-montello-twelve-hour/
LOCATION:Santa Maria della Vittoria\, Volpago del Montello\, Montello\, Italy
CATEGORIES:12 Hour,Championship,Timed
ORGANIZER;CN="Ultracycling Italia":MAILTO:info.timetrial@gmail.com
END:VEVENT
BEGIN:VEVENT
DTSTART;VALUE=DATE:20200725
DTEND;VALUE=DATE:20200726
DTSTAMP:20260420T211947
CREATED:20190926T153346Z
LAST-MODIFIED:20200526T235918Z
UID:21126-1595635200-1595721599@staging.ultracycling.com
SUMMARY:Slo12 Ultra 2020 (cancelled for 2020)
DESCRIPTION:The race starts in town of Dobrovnik on North-East of Slovenia\, by the border with Hungary. The race route is a flat 11km loop through two municipalities\, Dobrovnik and Turnisce
URL:https://staging.ultracycling.com/calendar/slo12-ultra-2020/
LOCATION:Slo24 Venue\, Dobrovnik\, Slovenia
CATEGORIES:12 Hour,Championship,Timed
ATTACH;FMTTYPE=image/png:https://staging.ultracycling.com/wp-content/uploads/2016/11/Logo-Slo-24-Ultra-e1481209440204.png
ORGANIZER;CN="Marko Baloh":MAILTO:marko@markobaloh.com
END:VEVENT
BEGIN:VEVENT
DTSTART;VALUE=DATE:20200718
DTEND;VALUE=DATE:20200719
DTSTAMP:20260420T211947
CREATED:20200119T214708Z
LAST-MODIFIED:20201230T143654Z
UID:21567-1595030400-1595116799@staging.ultracycling.com
SUMMARY:Big Jay's Ultra Cycling Challenge (12-hour) 2020
DESCRIPTION:Course is a low traffic\, flat\, 25 mile loop with easy to follow road markings
URL:https://staging.ultracycling.com/calendar/big-jays-12-hour-race-2020/
LOCATION:2162 125E in rural Mahomet\, 2162 125E\, Mahomet\, IL\, United States
CATEGORIES:12 Hour,Timed
END:VEVENT
BEGIN:VEVENT
DTSTART;VALUE=DATE:20200530
DTEND;VALUE=DATE:20200531
DTSTAMP:20260420T211947
CREATED:20190811T144326Z
LAST-MODIFIED:20200324T024323Z
UID:20991-1590796800-1590883199@staging.ultracycling.com
SUMMARY:Maryland Endurance Challenge 12-Hour (Cancelled for 2020)
DESCRIPTION:Three (very scenic) 34.2-mile loops followed by a 6.6-mile loop\, all monitored by timing chips. This will be a drafting-legal event.
URL:https://staging.ultracycling.com/calendar/maryland-endurance-challenge-12-hour-2020/
LOCATION:Mount St. Mary’s University\, 16300 Old Emmitsburg Rd\, Emmitsburg\, MD\, 21727\, United States
CATEGORIES:12 Hour,Championship,Timed
ATTACH;FMTTYPE=image/png:https://staging.ultracycling.com/wp-content/uploads/2017/11/MD-Endurance-Challenge-logo-ORIGINAL-300x263.png
ORGANIZER;CN="SHIP of Frederick County":MAILTO:organizer@mdendurancechallenge.com
END:VEVENT
BEGIN:VEVENT
DTSTART;VALUE=DATE:20200509
DTEND;VALUE=DATE:20200510
DTSTAMP:20260420T211947
CREATED:20190922T174907Z
LAST-MODIFIED:20200117T132755Z
UID:21115-1588982400-1589068799@staging.ultracycling.com
SUMMARY:Texas Ultra Spirit 12hr TT 2020
DESCRIPTION:Lap-style race on a 7.5-mile course starting and finishing in picturesque Fayetteville\, TX.
URL:https://staging.ultracycling.com/calendar/texas-ultra-spirit-12hr-tt-2020/
LOCATION:Fayetteville TX Town Square\, 110 W Main St\, Fayetteville\, TX\, 78940\, United States
CATEGORIES:12 Hour,Timed
ATTACH;FMTTYPE=image/png:https://staging.ultracycling.com/wp-content/uploads/2017/01/Texas-Ultra-Spirit.png
ORGANIZER;CN="Texas Ultra Spirit":MAILTO:sanchdl@yahoo.com
END:VEVENT
BEGIN:VEVENT
DTSTART;VALUE=DATE:20200208
DTEND;VALUE=DATE:20200209
DTSTAMP:20260420T211947
CREATED:20190916T231801Z
LAST-MODIFIED:20200117T132350Z
UID:21068-1581120000-1581206399@staging.ultracycling.com
SUMMARY:Bike Sebring 12hr 2020
DESCRIPTION:Course begins with 3 laps (3.7 miles each) on the famous Sebring race course. Riders then transition to flat\, sometimes rolling roads with a minimum amount of traffic which comprise the long loop (89 miles). This is followed by an 11-mile short loop untill the riders are returned to the race track between 5:30 – 5:45 pm
URL:https://staging.ultracycling.com/calendar/bike-sebring-12hr-2020/
LOCATION:Sebring International Raceway\, 113 Midway Dr\, Sebring\, FL\, 33870\, United States
CATEGORIES:12 Hour,Timed
ATTACH;FMTTYPE=image/png:https://staging.ultracycling.com/wp-content/uploads/2016/11/Sebring-12-e1479748651504.png
ORGANIZER;CN="Rotary Club Of Highlands County":MAILTO:BikeSebring1224@gmail.com
END:VEVENT
BEGIN:VEVENT
DTSTART;VALUE=DATE:20200201
DTEND;VALUE=DATE:20200202
DTSTAMP:20260420T211947
CREATED:20190918T130719Z
LAST-MODIFIED:20200117T131429Z
UID:21088-1580515200-1580601599@staging.ultracycling.com
SUMMARY:Pace Bend 12H TT 2020
DESCRIPTION:6.2-mile road loop inside Pace Bend State Park. Cyclists may ride as many laps as desired during respective duration.
URL:https://staging.ultracycling.com/calendar/pace-bend-12h-tt-2020/
LOCATION:Pace Bend State Park\, 2011 Pace Bend Rd N\, Spicewood\, TX\, 78669\, United States
CATEGORIES:12 Hour,Timed
ATTACH;FMTTYPE=image/jpeg:https://staging.ultracycling.com/wp-content/uploads/2017/01/Driveway-Series.jpg
ORGANIZER;CN="Holland Racing":MAILTO:andrew.willis@hollandracing.net kelley.ables@hollandracing.net
END:VEVENT
BEGIN:VEVENT
DTSTART;VALUE=DATE:20191101
DTEND;VALUE=DATE:20191102
DTSTAMP:20260420T211947
CREATED:20190408T173643Z
LAST-MODIFIED:20190408T181632Z
UID:20881-1572566400-1572652799@staging.ultracycling.com
SUMMARY:12 hour World TT Championship 2019
DESCRIPTION:The course is flat and fast\, featuring a main loop of 18.0 miles with 347’ of elevation change and a finishing loop of 4.8 miles with 63’ of elevation change.
URL:https://staging.ultracycling.com/calendar/12-hour-world-tt-championship-2019/
LOCATION:Borrego Springs\, Christmas Circle\, Borrego Springs\, CA\, United States
CATEGORIES:12 Hour,Timed
ATTACH;FMTTYPE=image/png:https://staging.ultracycling.com/wp-content/uploads/2016/10/6-12-24hour_logo-e1479748778496.png
END:VEVENT
BEGIN:VEVENT
DTSTART;VALUE=DATE:20191005
DTEND;VALUE=DATE:20191006
DTSTAMP:20260420T211947
CREATED:20190103T165424Z
LAST-MODIFIED:20200128T151800Z
UID:20792-1570233600-1570319999@staging.ultracycling.com
SUMMARY:Bessie’s Creek 12-hr 2019
DESCRIPTION:
URL:https://staging.ultracycling.com/calendar/bessies-creek-12-hr/
CATEGORIES:12 Hour,Timed
END:VEVENT
BEGIN:VEVENT
DTSTART;VALUE=DATE:20190926
DTEND;VALUE=DATE:20190927
DTSTAMP:20260420T211947
CREATED:20180925T005651Z
LAST-MODIFIED:20200128T151014Z
UID:4432-1569456000-1569542399@staging.ultracycling.com
SUMMARY:IL24TE – Israeli 12 Hour 2019
DESCRIPTION:A main loop of 27.6km on quiet\, flat\, roads south of Tel Aviv
URL:https://staging.ultracycling.com/calendar/il24te-israeli-12-hour-2019/
LOCATION:IL24TE Start\, Urim Junction\, Israel
CATEGORIES:12 Hour,Timed
ATTACH;FMTTYPE=image/jpeg:https://staging.ultracycling.com/wp-content/uploads/2016/11/Israel.jpg
ORGANIZER;CN="IL24TE":MAILTO:israel24te@gmail.com
END:VEVENT
BEGIN:VEVENT
DTSTART;VALUE=DATE:20190921
DTEND;VALUE=DATE:20190922
DTSTAMP:20260420T211947
CREATED:20180821T000848Z
LAST-MODIFIED:20190226T132908Z
UID:4367-1569024000-1569110399@staging.ultracycling.com
SUMMARY:Texas Time Trials 12H TT 2019
DESCRIPTION:The course is a scenic and challenging 26.5 mile loop\, with all riders completing 79.5 miles in 12 hours receiving a trophy.
URL:https://staging.ultracycling.com/calendar/texas-12-2019/
LOCATION:Glen Rose City Park (Rodeo Park)\, 1600 Northeast Big Bend Trail\, 1600 Northeast Big Bend Trail\, TX\, 76033\, United States
CATEGORIES:12 Hour,Timed
ATTACH;FMTTYPE=image/jpeg:https://staging.ultracycling.com/wp-content/uploads/2017/01/TT-logo.jpg
ORGANIZER;CN="Holland Racing":MAILTO:andrew.willis@hollandracing.net kelley.ables@hollandracing.net
END:VEVENT
END:VCALENDAR