

BEGIN:VCALENDAR
VERSION:2.0
PRODID:-//World UltraCycling Association - ECPv6.9.1//NONSGML v1.0//EN
CALSCALE:GREGORIAN
METHOD:PUBLISH
X-WR-CALNAME:World UltraCycling Association
X-ORIGINAL-URL:https://staging.ultracycling.com
X-WR-CALDESC:Events for World UltraCycling Association
REFRESH-INTERVAL;VALUE=DURATION:PT1H
X-Robots-Tag:noindex
X-PUBLISHED-TTL:PT1H
BEGIN:VTIMEZONE
TZID:America/Los_Angeles
BEGIN:DAYLIGHT
TZOFFSETFROM:-0800
TZOFFSETTO:-0700
TZNAME:PDT
DTSTART:20190310T100000
END:DAYLIGHT
BEGIN:STANDARD
TZOFFSETFROM:-0700
TZOFFSETTO:-0800
TZNAME:PST
DTSTART:20191103T090000
END:STANDARD
BEGIN:DAYLIGHT
TZOFFSETFROM:-0800
TZOFFSETTO:-0700
TZNAME:PDT
DTSTART:20200308T100000
END:DAYLIGHT
BEGIN:STANDARD
TZOFFSETFROM:-0700
TZOFFSETTO:-0800
TZNAME:PST
DTSTART:20201101T090000
END:STANDARD
BEGIN:DAYLIGHT
TZOFFSETFROM:-0800
TZOFFSETTO:-0700
TZNAME:PDT
DTSTART:20210314T100000
END:DAYLIGHT
BEGIN:STANDARD
TZOFFSETFROM:-0700
TZOFFSETTO:-0800
TZNAME:PST
DTSTART:20211107T090000
END:STANDARD
BEGIN:DAYLIGHT
TZOFFSETFROM:-0800
TZOFFSETTO:-0700
TZNAME:PDT
DTSTART:20220313T100000
END:DAYLIGHT
BEGIN:STANDARD
TZOFFSETFROM:-0700
TZOFFSETTO:-0800
TZNAME:PST
DTSTART:20221106T090000
END:STANDARD
BEGIN:DAYLIGHT
TZOFFSETFROM:-0800
TZOFFSETTO:-0700
TZNAME:PDT
DTSTART:20230312T100000
END:DAYLIGHT
BEGIN:STANDARD
TZOFFSETFROM:-0700
TZOFFSETTO:-0800
TZNAME:PST
DTSTART:20231105T090000
END:STANDARD
TZID:Europe/Helsinki
BEGIN:DAYLIGHT
TZOFFSETFROM:+0200
TZOFFSETTO:+0300
TZNAME:EEST
DTSTART:20190331T010000
END:DAYLIGHT
BEGIN:STANDARD
TZOFFSETFROM:+0300
TZOFFSETTO:+0200
TZNAME:EET
DTSTART:20191027T010000
END:STANDARD
BEGIN:DAYLIGHT
TZOFFSETFROM:+0200
TZOFFSETTO:+0300
TZNAME:EEST
DTSTART:20200329T010000
END:DAYLIGHT
BEGIN:STANDARD
TZOFFSETFROM:+0300
TZOFFSETTO:+0200
TZNAME:EET
DTSTART:20201025T010000
END:STANDARD
BEGIN:DAYLIGHT
TZOFFSETFROM:+0200
TZOFFSETTO:+0300
TZNAME:EEST
DTSTART:20210328T010000
END:DAYLIGHT
BEGIN:STANDARD
TZOFFSETFROM:+0300
TZOFFSETTO:+0200
TZNAME:EET
DTSTART:20211031T010000
END:STANDARD
TZID:America/Denver
BEGIN:DAYLIGHT
TZOFFSETFROM:-0700
TZOFFSETTO:-0600
TZNAME:MDT
DTSTART:20190310T090000
END:DAYLIGHT
BEGIN:STANDARD
TZOFFSETFROM:-0600
TZOFFSETTO:-0700
TZNAME:MST
DTSTART:20191103T080000
END:STANDARD
BEGIN:DAYLIGHT
TZOFFSETFROM:-0700
TZOFFSETTO:-0600
TZNAME:MDT
DTSTART:20200308T090000
END:DAYLIGHT
BEGIN:STANDARD
TZOFFSETFROM:-0600
TZOFFSETTO:-0700
TZNAME:MST
DTSTART:20201101T080000
END:STANDARD
BEGIN:DAYLIGHT
TZOFFSETFROM:-0700
TZOFFSETTO:-0600
TZNAME:MDT
DTSTART:20210314T090000
END:DAYLIGHT
BEGIN:STANDARD
TZOFFSETFROM:-0600
TZOFFSETTO:-0700
TZNAME:MST
DTSTART:20211107T080000
END:STANDARD
TZID:America/Chicago
BEGIN:DAYLIGHT
TZOFFSETFROM:-0600
TZOFFSETTO:-0500
TZNAME:CDT
DTSTART:20190310T080000
END:DAYLIGHT
BEGIN:STANDARD
TZOFFSETFROM:-0500
TZOFFSETTO:-0600
TZNAME:CST
DTSTART:20191103T070000
END:STANDARD
BEGIN:DAYLIGHT
TZOFFSETFROM:-0600
TZOFFSETTO:-0500
TZNAME:CDT
DTSTART:20200308T080000
END:DAYLIGHT
BEGIN:STANDARD
TZOFFSETFROM:-0500
TZOFFSETTO:-0600
TZNAME:CST
DTSTART:20201101T070000
END:STANDARD
BEGIN:DAYLIGHT
TZOFFSETFROM:-0600
TZOFFSETTO:-0500
TZNAME:CDT
DTSTART:20210314T080000
END:DAYLIGHT
BEGIN:STANDARD
TZOFFSETFROM:-0500
TZOFFSETTO:-0600
TZNAME:CST
DTSTART:20211107T070000
END:STANDARD
TZID:America/New_York
BEGIN:DAYLIGHT
TZOFFSETFROM:-0500
TZOFFSETTO:-0400
TZNAME:EDT
DTSTART:20190310T070000
END:DAYLIGHT
BEGIN:STANDARD
TZOFFSETFROM:-0400
TZOFFSETTO:-0500
TZNAME:EST
DTSTART:20191103T060000
END:STANDARD
BEGIN:DAYLIGHT
TZOFFSETFROM:-0500
TZOFFSETTO:-0400
TZNAME:EDT
DTSTART:20200308T070000
END:DAYLIGHT
BEGIN:STANDARD
TZOFFSETFROM:-0400
TZOFFSETTO:-0500
TZNAME:EST
DTSTART:20201101T060000
END:STANDARD
BEGIN:DAYLIGHT
TZOFFSETFROM:-0500
TZOFFSETTO:-0400
TZNAME:EDT
DTSTART:20210314T070000
END:DAYLIGHT
BEGIN:STANDARD
TZOFFSETFROM:-0400
TZOFFSETTO:-0500
TZNAME:EST
DTSTART:20211107T060000
END:STANDARD
TZID:UTC
BEGIN:STANDARD
TZOFFSETFROM:+0000
TZOFFSETTO:+0000
TZNAME:UTC
DTSTART:20190101T000000
END:STANDARD
TZID:Europe/Paris
BEGIN:DAYLIGHT
TZOFFSETFROM:+0100
TZOFFSETTO:+0200
TZNAME:CEST
DTSTART:20190331T010000
END:DAYLIGHT
BEGIN:STANDARD
TZOFFSETFROM:+0200
TZOFFSETTO:+0100
TZNAME:CET
DTSTART:20191027T010000
END:STANDARD
BEGIN:DAYLIGHT
TZOFFSETFROM:+0100
TZOFFSETTO:+0200
TZNAME:CEST
DTSTART:20200329T010000
END:DAYLIGHT
BEGIN:STANDARD
TZOFFSETFROM:+0200
TZOFFSETTO:+0100
TZNAME:CET
DTSTART:20201025T010000
END:STANDARD
TZID:America/Los_Angeles
BEGIN:DAYLIGHT
TZOFFSETFROM:-0800
TZOFFSETTO:-0700
TZNAME:PDT
DTSTART:20190310T100000
END:DAYLIGHT
BEGIN:STANDARD
TZOFFSETFROM:-0700
TZOFFSETTO:-0800
TZNAME:PST
DTSTART:20191103T090000
END:STANDARD
END:VTIMEZONE
BEGIN:VEVENT
DTSTART;TZID=America/Los_Angeles:20230715T100000
DTEND;TZID=America/Los_Angeles:20230715T100000
DTSTAMP:20260420T155418
CREATED:20230622T015123Z
LAST-MODIFIED:20230718T162618Z
UID:33148-1689415200-1689415200@staging.ultracycling.com
SUMMARY:Slo6 Ultra 2023
DESCRIPTION:The race starts in town of Dobrovnik on North-East of Slovenia\, by the border with Hungary. The race route is a flat 11km loop through two municipalities\, Dobrovnik and Turnisce.
URL:https://staging.ultracycling.com/calendar/slo6-ultra-2023/
CATEGORIES:6 Hour
ATTACH;FMTTYPE=image/jpeg:https://staging.ultracycling.com/wp-content/uploads/2023/01/slo24-ultra_0.jpg
ORGANIZER;CN="Marko Baloh":MAILTO:marko@markobaloh.com
END:VEVENT
BEGIN:VEVENT
DTSTART;VALUE=DATE:20211007
DTEND;VALUE=DATE:20211008
DTSTAMP:20260420T155418
CREATED:20210218T014502Z
LAST-MODIFIED:20210218T014502Z
UID:23480-1633564800-1633651199@staging.ultracycling.com
SUMMARY:IL24TE – Israeli 6 Hour 2021
DESCRIPTION:A main loop of 27.6km on quiet\, flat\, roads south of Tel Aviv
URL:https://staging.ultracycling.com/calendar/il24te-israeli-6-hour-2021/
LOCATION:IL24TE Start\, Urim Junction\, Israel
CATEGORIES:6 Hour,Timed
ATTACH;FMTTYPE=image/jpeg:https://staging.ultracycling.com/wp-content/uploads/2016/11/Israel.jpg
ORGANIZER;CN="IL24TE":MAILTO:israel24te@gmail.com
END:VEVENT
BEGIN:VEVENT
DTSTART;VALUE=DATE:20210606
DTEND;VALUE=DATE:20210607
DTSTAMP:20260420T155418
CREATED:20201209T224805Z
LAST-MODIFIED:20201209T224805Z
UID:23217-1622937600-1623023999@staging.ultracycling.com
SUMMARY:6 Hours In The Canyon 2021
DESCRIPTION:An annual event with all funds going to support cancer survivors.
URL:https://staging.ultracycling.com/calendar/6-hours-in-the-canyon-2021/
LOCATION:24H in the Canyon Start – Palo Duro Canyon\, 11450 State Hwy Park Rd 5\, Canyon\, TX\, 79015\, United States
CATEGORIES:6 Hour,Timed
ATTACH;FMTTYPE=image/png:https://staging.ultracycling.com/wp-content/uploads/2016/11/canyon1-e1482422443975.png
ORGANIZER;CN="24 Hours in the Canyon":MAILTO:info@24hoursinthecanyon.org
END:VEVENT
BEGIN:VEVENT
DTSTART;VALUE=DATE:20210605
DTEND;VALUE=DATE:20210606
DTSTAMP:20260420T155418
CREATED:20210201T170156Z
LAST-MODIFIED:20210204T231203Z
UID:23417-1622851200-1622937599@staging.ultracycling.com
SUMMARY:Big Jay's Ultra Cycling Challenge (6-hour) 2021
DESCRIPTION:Course is a low traffic\, flat\, 25 mile loop with easy to follow road markings
URL:https://staging.ultracycling.com/calendar/big-jays-6-hour-race-2021/
LOCATION:Big Jay’s 2021 Start\, 2162 125E\, Mahomet\, IL\, United States
CATEGORIES:6 Hour,Timed
END:VEVENT
BEGIN:VEVENT
DTSTART;VALUE=DATE:20210522
DTEND;VALUE=DATE:20210523
DTSTAMP:20260420T155418
CREATED:20201205T005040Z
LAST-MODIFIED:20201205T005040Z
UID:23153-1621641600-1621727999@staging.ultracycling.com
SUMMARY:Maryland Endurance Challenge 6-Hour\, 2021
DESCRIPTION:Two (very scenic) 34.2-mile loops followed by a 6.6-mile loop\, all monitored by timing chips. This will be a drafting-legal event.
URL:https://staging.ultracycling.com/calendar/maryland-endurance-challenge-6-hour-2021/
LOCATION:Mount St. Mary’s University\, 16300 Old Emmitsburg Rd\, Emmitsburg\, MD\, 21727\, United States
CATEGORIES:6 Hour,Timed
ATTACH;FMTTYPE=image/png:https://staging.ultracycling.com/wp-content/uploads/2017/11/MD-Endurance-Challenge-logo-ORIGINAL-300x263.png
ORGANIZER;CN="SHIP of Frederick County":MAILTO:organizer@mdendurancechallenge.com
END:VEVENT
BEGIN:VEVENT
DTSTART;VALUE=DATE:20210403
DTEND;VALUE=DATE:20210404
DTSTAMP:20260420T155418
CREATED:20200710T145426Z
LAST-MODIFIED:20200710T145426Z
UID:22327-1617408000-1617494399@staging.ultracycling.com
SUMMARY:Bessie's Creek 6 Hour 2021
DESCRIPTION:
URL:https://staging.ultracycling.com/calendar/bessies-creek-6-hour-2021/
CATEGORIES:6 Hour,Timed
END:VEVENT
BEGIN:VEVENT
DTSTART;VALUE=DATE:20201003
DTEND;VALUE=DATE:20201005
DTSTAMP:20260420T155418
CREATED:20200116T143023Z
LAST-MODIFIED:20200710T144847Z
UID:21543-1601683200-1601855999@staging.ultracycling.com
SUMMARY:Bessie's Creek 6 Hour  (Cancelled for 2020)
DESCRIPTION:
URL:https://staging.ultracycling.com/calendar/bessies-creek-6-hour-2020/
CATEGORIES:6 Hour,Timed
END:VEVENT
BEGIN:VEVENT
DTSTART;VALUE=DATE:20200930
DTEND;VALUE=DATE:20201001
DTSTAMP:20260420T155418
CREATED:20200113T040508Z
LAST-MODIFIED:20200113T040508Z
UID:21525-1601424000-1601510399@staging.ultracycling.com
SUMMARY:Brands Hatch Revolve 6 2020
DESCRIPTION:A 6 hour super speedy time-trial around the Brand’s Hatch motor racing circuit
URL:https://staging.ultracycling.com/calendar/brands-hatch-revolve-6-2020/
LOCATION:Brand’s Hatch\, West Kingsdown\, Longfield\, DA3 8PU\, United States
CATEGORIES:6 Hour,Timed
ATTACH;FMTTYPE=image/jpeg:https://staging.ultracycling.com/wp-content/uploads/2016/11/Revolve-6-e1479748699458.jpg
ORGANIZER;CN="Revolve 24":MAILTO:r24team@revolve24.com
END:VEVENT
BEGIN:VEVENT
DTSTART;VALUE=DATE:20200927
DTEND;VALUE=DATE:20200928
DTSTAMP:20260420T155418
CREATED:20191017T022602Z
LAST-MODIFIED:20200116T151050Z
UID:21192-1601164800-1601251199@staging.ultracycling.com
SUMMARY:Ultra-cycling Italia Time Trial\, 6-hour 2020
DESCRIPTION:2020 Marks the first edition of Ultra-cycling Italia’s time trial series\, featuring 6\, 12 and 24 hour timed events. \nStart and ceremonies to be held at Sports Valcervano area\, Via Cervano\, Bagnolo Park of San Pietro di Feletto
URL:https://staging.ultracycling.com/calendar/ultra-cycling-italia-time-trial-6-hour/
CATEGORIES:6 Hour,Timed
ORGANIZER;CN="Ultracycling Italia":MAILTO:info.timetrial@gmail.com
END:VEVENT
BEGIN:VEVENT
DTSTART;VALUE=DATE:20200920
DTEND;VALUE=DATE:20200921
DTSTAMP:20260420T155418
CREATED:20190918T143337Z
LAST-MODIFIED:20200117T134418Z
UID:21098-1600560000-1600646399@staging.ultracycling.com
SUMMARY:Texas Time Trials 6H TT 2020
DESCRIPTION:The course is a scenic and challenging 26.5 mile loop\, with all riders completing 53 miles in 6 hours hours receiving a trophy.
URL:https://staging.ultracycling.com/calendar/texas-6h-2020/
LOCATION:Glen Rose City Park (Rodeo Park)\, 1600 Northeast Big Bend Trail\, 1600 Northeast Big Bend Trail\, TX\, 76033\, United States
CATEGORIES:6 Hour,Timed
ATTACH;FMTTYPE=image/jpeg:https://staging.ultracycling.com/wp-content/uploads/2017/01/TT-logo.jpg
ORGANIZER;CN="Holland Racing":MAILTO:andrew.willis@hollandracing.net kelley.ables@hollandracing.net
END:VEVENT
BEGIN:VEVENT
DTSTART;VALUE=DATE:20200917
DTEND;VALUE=DATE:20200918
DTSTAMP:20260420T155418
CREATED:20190907T121127Z
LAST-MODIFIED:20200128T151450Z
UID:21019-1600300800-1600387199@staging.ultracycling.com
SUMMARY:IL24TE – Israeli 6 Hour 2020
DESCRIPTION:A main loop of 27.6km on quiet\, flat\, roads south of Tel Aviv
URL:https://staging.ultracycling.com/calendar/il24te-israeli-6-hour-2020/
LOCATION:IL24TE Start\, Urim Junction\, Israel
CATEGORIES:6 Hour,Timed
ATTACH;FMTTYPE=image/jpeg:https://staging.ultracycling.com/wp-content/uploads/2016/11/Israel.jpg
ORGANIZER;CN="IL24TE":MAILTO:israel24te@gmail.com
END:VEVENT
BEGIN:VEVENT
DTSTART;VALUE=DATE:20200830
DTEND;VALUE=DATE:20200831
DTSTAMP:20260420T155418
CREATED:20190907T131835Z
LAST-MODIFIED:20200321T002222Z
UID:21033-1598745600-1598831999@staging.ultracycling.com
SUMMARY:6 Hours In The Canyon 2020
DESCRIPTION:An annual event with all funds going to support cancer survivors.
URL:https://staging.ultracycling.com/calendar/6-hours-in-the-canyon-2020/
LOCATION:24H in the Canyon Start – Palo Duro Canyon\, 11450 State Hwy Park Rd 5\, Canyon\, TX\, 79015\, United States
CATEGORIES:6 Hour,Timed
ATTACH;FMTTYPE=image/png:https://staging.ultracycling.com/wp-content/uploads/2016/11/canyon1-e1482422443975.png
ORGANIZER;CN="24 Hours in the Canyon":MAILTO:info@24hoursinthecanyon.org
END:VEVENT
BEGIN:VEVENT
DTSTART;VALUE=DATE:20200815
DTEND;VALUE=DATE:20200816
DTSTAMP:20260420T155418
CREATED:20200518T203749Z
LAST-MODIFIED:20200518T203749Z
UID:22131-1597449600-1597535999@staging.ultracycling.com
SUMMARY:Mid-Atlantic 6-hr 2020
DESCRIPTION:
URL:https://staging.ultracycling.com/calendar/mid-atlantic-6-2020/
LOCATION:Washington High School\, 400 Slatestone Road\, Washington\, NC\, 27889\, United States
CATEGORIES:6 Hour,Timed
ORGANIZER;CN="Mid-Atlantic Ultra Sports":MAILTO:maxwell@midatlanticultrasports.com
END:VEVENT
BEGIN:VEVENT
DTSTART;VALUE=DATE:20200802
DTEND;VALUE=DATE:20200803
DTSTAMP:20260420T155418
CREATED:20191102T142611Z
LAST-MODIFIED:20200116T151457Z
UID:21231-1596326400-1596412799@staging.ultracycling.com
SUMMARY:24h del Montello\, Six Hour 2020
DESCRIPTION:
URL:https://staging.ultracycling.com/calendar/24h-del-montello-six-hour/
LOCATION:Santa Maria della Vittoria\, Volpago del Montello\, Montello\, Italy
CATEGORIES:6 Hour,Timed
ORGANIZER;CN="Ultracycling Italia":MAILTO:info.timetrial@gmail.com
END:VEVENT
BEGIN:VEVENT
DTSTART;VALUE=DATE:20200725
DTEND;VALUE=DATE:20200726
DTSTAMP:20260420T155418
CREATED:20190926T153556Z
LAST-MODIFIED:20200526T235849Z
UID:21128-1595635200-1595721599@staging.ultracycling.com
SUMMARY:Slo6 Ultra 2020 (cancelled for 2020)
DESCRIPTION:The race starts in town of Dobrovnik on North-East of Slovenia\, by the border with Hungary. The race route is a flat 11km loop through two municipalities\, Dobrovnik and Turnisce
URL:https://staging.ultracycling.com/calendar/slo6-ultra-2020/
LOCATION:Slo24 Venue\, Dobrovnik\, Slovenia
CATEGORIES:6 Hour,Championship,Timed
ATTACH;FMTTYPE=image/png:https://staging.ultracycling.com/wp-content/uploads/2016/11/Logo-Slo-24-Ultra-e1481209440204.png
ORGANIZER;CN="Marko Baloh":MAILTO:marko@markobaloh.com
END:VEVENT
BEGIN:VEVENT
DTSTART;VALUE=DATE:20200718
DTEND;VALUE=DATE:20200719
DTSTAMP:20260420T155418
CREATED:20200715T195054Z
LAST-MODIFIED:20201230T143708Z
UID:22354-1595030400-1595116799@staging.ultracycling.com
SUMMARY:Big Jay's Ultra Cycling Challenge (6-hour) 2020
DESCRIPTION:Course is a low traffic\, flat\, 25 mile loop with easy to follow road markings
URL:https://staging.ultracycling.com/calendar/big-jays-6-hour-race-2020/
LOCATION:2162 125E in rural Mahomet\, 2162 125E\, Mahomet\, IL\, United States
CATEGORIES:6 Hour,Timed
END:VEVENT
BEGIN:VEVENT
DTSTART;VALUE=DATE:20200530
DTEND;VALUE=DATE:20200531
DTSTAMP:20260420T155418
CREATED:20190811T144040Z
LAST-MODIFIED:20200324T024351Z
UID:20989-1590796800-1590883199@staging.ultracycling.com
SUMMARY:Maryland Endurance Challenge 6-Hour (Cancelled for 2020)
DESCRIPTION:Two (very scenic) 34.2-mile loops followed by a 6.6-mile loop\, all monitored by timing chips. This will be a drafting-legal event.
URL:https://staging.ultracycling.com/calendar/maryland-endurance-challenge-6-hour-2020/
LOCATION:Mount St. Mary’s University\, 16300 Old Emmitsburg Rd\, Emmitsburg\, MD\, 21727\, United States
CATEGORIES:6 Hour,Timed
ATTACH;FMTTYPE=image/png:https://staging.ultracycling.com/wp-content/uploads/2017/11/MD-Endurance-Challenge-logo-ORIGINAL-300x263.png
ORGANIZER;CN="SHIP of Frederick County":MAILTO:organizer@mdendurancechallenge.com
END:VEVENT
BEGIN:VEVENT
DTSTART;VALUE=DATE:20200509
DTEND;VALUE=DATE:20200510
DTSTAMP:20260420T155418
CREATED:20190922T175039Z
LAST-MODIFIED:20200117T132721Z
UID:21117-1588982400-1589068799@staging.ultracycling.com
SUMMARY:Texas Ultra Spirit 6hr TT 2020
DESCRIPTION:Lap-style race on a 7.5-mile course starting and finishing in picturesque Fayetteville\, TX.
URL:https://staging.ultracycling.com/calendar/texas-ultra-spirit-6hr-tt-2020/
LOCATION:Fayetteville TX Town Square\, 110 W Main St\, Fayetteville\, TX\, 78940\, United States
CATEGORIES:6 Hour,Timed
ATTACH;FMTTYPE=image/png:https://staging.ultracycling.com/wp-content/uploads/2017/01/Texas-Ultra-Spirit.png
ORGANIZER;CN="Texas Ultra Spirit":MAILTO:sanchdl@yahoo.com
END:VEVENT
BEGIN:VEVENT
DTSTART;VALUE=DATE:20200201
DTEND;VALUE=DATE:20200202
DTSTAMP:20260420T155418
CREATED:20190918T130514Z
LAST-MODIFIED:20200117T132014Z
UID:21086-1580515200-1580601599@staging.ultracycling.com
SUMMARY:Pace Bend 6H TT 2020
DESCRIPTION:6.2-mile road loop inside Pace Bend State Park. Cyclists may ride as many laps as desired during respective duration.
URL:https://staging.ultracycling.com/calendar/pace-bend-6h-tt-2020/
LOCATION:Pace Bend State Park\, 2011 Pace Bend Rd N\, Spicewood\, TX\, 78669\, United States
CATEGORIES:6 Hour,Timed
ATTACH;FMTTYPE=image/png:https://staging.ultracycling.com/wp-content/uploads/2017/03/pb24.png
ORGANIZER;CN="Holland Racing":MAILTO:andrew.willis@hollandracing.net kelley.ables@hollandracing.net
END:VEVENT
BEGIN:VEVENT
DTSTART;VALUE=DATE:20191101
DTEND;VALUE=DATE:20191103
DTSTAMP:20260420T155418
CREATED:20191118T231537Z
LAST-MODIFIED:20191118T231537Z
UID:21260-1572566400-1572739199@staging.ultracycling.com
SUMMARY:Borrego Springs 6-hour TT\,  2019
DESCRIPTION:The course is flat and fast\, featuring a main loop of 18.0 miles with 347’ of elevation change and a finishing loop of 4.8 miles with 63’ of elevation change.
URL:https://staging.ultracycling.com/calendar/borrego_springs_6-hour_tt_2019/
LOCATION:Borrego Springs\, Christmas Circle\, Borrego Springs\, CA\, United States
CATEGORIES:6 Hour,Timed
END:VEVENT
BEGIN:VEVENT
DTSTART;VALUE=DATE:20191005
DTEND;VALUE=DATE:20191006
DTSTAMP:20260420T155418
CREATED:20190408T173358Z
LAST-MODIFIED:20200128T152007Z
UID:20879-1570233600-1570319999@staging.ultracycling.com
SUMMARY:Bessie’s Creek 6-hr 2019
DESCRIPTION:
URL:https://staging.ultracycling.com/calendar/bessies-creek-6-hr/
CATEGORIES:6 Hour,Timed
END:VEVENT
BEGIN:VEVENT
DTSTART;VALUE=DATE:20190926
DTEND;VALUE=DATE:20190927
DTSTAMP:20260420T155418
CREATED:20180925T005723Z
LAST-MODIFIED:20200128T151324Z
UID:4433-1569456000-1569542399@staging.ultracycling.com
SUMMARY:IL24TE – Israeli 6 Hour 2019
DESCRIPTION:A main loop of 27.6km on quiet\, flat\, roads south of Tel Aviv
URL:https://staging.ultracycling.com/calendar/il24te-israeli-6-hour-2019/
LOCATION:IL24TE Start\, Urim Junction\, Israel
CATEGORIES:6 Hour,Timed
ATTACH;FMTTYPE=image/jpeg:https://staging.ultracycling.com/wp-content/uploads/2016/11/Israel.jpg
ORGANIZER;CN="IL24TE":MAILTO:israel24te@gmail.com
END:VEVENT
BEGIN:VEVENT
DTSTART;VALUE=DATE:20190921
DTEND;VALUE=DATE:20190922
DTSTAMP:20260420T155418
CREATED:20180821T000931Z
LAST-MODIFIED:20190226T132843Z
UID:4366-1569024000-1569110399@staging.ultracycling.com
SUMMARY:Texas Time Trials 6H TT 2019
DESCRIPTION:The course is a scenic and challenging 26.5 mile loop\, with all riders completing 53 miles in 6 hours hours receiving a trophy.
URL:https://staging.ultracycling.com/calendar/texas-6h-2019/
LOCATION:Glen Rose City Park (Rodeo Park)\, 1600 Northeast Big Bend Trail\, 1600 Northeast Big Bend Trail\, TX\, 76033\, United States
CATEGORIES:6 Hour,Timed
ATTACH;FMTTYPE=image/jpeg:https://staging.ultracycling.com/wp-content/uploads/2017/01/TT-logo.jpg
ORGANIZER;CN="Holland Racing":MAILTO:andrew.willis@hollandracing.net kelley.ables@hollandracing.net
END:VEVENT
BEGIN:VEVENT
DTSTART;VALUE=DATE:20190914
DTEND;VALUE=DATE:20190915
DTSTAMP:20260420T155418
CREATED:20190408T171123Z
LAST-MODIFIED:20190408T171123Z
UID:20868-1568419200-1568505599@staging.ultracycling.com
SUMMARY:Brands Hatch Revolve 6 2019
DESCRIPTION:A 6 hour super speedy time-trial around the Brand’s Hatch motor racing circuit
URL:https://staging.ultracycling.com/calendar/brands-hatch-revolve-6-2019/
LOCATION:Brand’s Hatch\, West Kingsdown\, Longfield\, DA3 8PU\, United States
CATEGORIES:6 Hour,Timed
ATTACH;FMTTYPE=image/jpeg:https://staging.ultracycling.com/wp-content/uploads/2016/11/Revolve-6-e1479748699458.jpg
ORGANIZER;CN="Revolve 24":MAILTO:r24team@revolve24.com
END:VEVENT
BEGIN:VEVENT
DTSTART;VALUE=DATE:20190817
DTEND;VALUE=DATE:20190819
DTSTAMP:20260420T155418
CREATED:20190408T175531Z
LAST-MODIFIED:20190408T182437Z
UID:20891-1566000000-1566172799@staging.ultracycling.com
SUMMARY:Mid-Atlantic 6-hr 2019
DESCRIPTION:
URL:https://staging.ultracycling.com/calendar/mid-atlantic-6-2019/
LOCATION:Washington High School\, 400 Slatestone Road\, Washington\, NC\, 27889\, United States
CATEGORIES:6 Hour,Championship,Timed
ORGANIZER;CN="Mid-Atlantic Ultra Sports":MAILTO:maxwell@midatlanticultrasports.com
END:VEVENT
BEGIN:VEVENT
DTSTART;VALUE=DATE:20190720
DTEND;VALUE=DATE:20190721
DTSTAMP:20260420T155418
CREATED:20190319T180624Z
LAST-MODIFIED:20190319T180624Z
UID:20838-1563580800-1563667199@staging.ultracycling.com
SUMMARY:Big Jay's Ultra Cycling Challenge (6-hour) 2019
DESCRIPTION:Course is a low traffic\, flat\, 25 mile loop with easy to follow road markings
URL:https://staging.ultracycling.com/calendar/big-jays-6-hour-race-2019/
LOCATION:2162 125E in rural Mahomet\, 2162 125E\, Mahomet\, IL\, United States
CATEGORIES:6 Hour,Timed
END:VEVENT
BEGIN:VEVENT
DTSTART;VALUE=DATE:20190602
DTEND;VALUE=DATE:20190603
DTSTAMP:20260420T155418
CREATED:20180611T213847Z
LAST-MODIFIED:20190226T133033Z
UID:4197-1559433600-1559519999@staging.ultracycling.com
SUMMARY:6 Hours In The Canyon 2019
DESCRIPTION:An annual event with all funds going to support cancer survivors.
URL:https://staging.ultracycling.com/calendar/6-hours-in-the-canyon-2019/
LOCATION:24H in the Canyon Start – Palo Duro Canyon\, 11450 State Hwy Park Rd 5\, Canyon\, TX\, 79015\, United States
CATEGORIES:6 Hour,Timed
ATTACH;FMTTYPE=image/png:https://staging.ultracycling.com/wp-content/uploads/2016/11/canyon1-e1482422443975.png
ORGANIZER;CN="24 Hours in the Canyon":MAILTO:info@24hoursinthecanyon.org
END:VEVENT
BEGIN:VEVENT
DTSTART;VALUE=DATE:20190518
DTEND;VALUE=DATE:20190519
DTSTAMP:20260420T155418
CREATED:20190316T135623Z
LAST-MODIFIED:20190316T135623Z
UID:20811-1558137600-1558223999@staging.ultracycling.com
SUMMARY:Maryland Endurance Challenge 6-Hour 2019
DESCRIPTION:Two (very scenic) 34.2-mile loops followed by a 6.6-mile loop\, all monitored by timing chips. This will be a drafting-legal event.
URL:https://staging.ultracycling.com/calendar/maryland-endurance-challenge-6-hour-2019/
LOCATION:Mount St. Mary’s University\, 16300 Old Emmitsburg Rd\, Emmitsburg\, MD\, 21727\, United States
CATEGORIES:6 Hour,Timed
ATTACH;FMTTYPE=image/png:https://staging.ultracycling.com/wp-content/uploads/2017/11/MD-Endurance-Challenge-logo-ORIGINAL-300x263.png
ORGANIZER;CN="SHIP of Frederick County":MAILTO:organizer@mdendurancechallenge.com
END:VEVENT
BEGIN:VEVENT
DTSTART;VALUE=DATE:20190511
DTEND;VALUE=DATE:20190512
DTSTAMP:20260420T155418
CREATED:20190204T185134Z
LAST-MODIFIED:20190226T133217Z
UID:20761-1557532800-1557619199@staging.ultracycling.com
SUMMARY:Texas Ultra Spirit 6hr TT 2019
DESCRIPTION:Lap-style race on a 7.5-mile course starting and finishing in picturesque Fayetteville\, TX.
URL:https://staging.ultracycling.com/calendar/texas-ultra-spirit-6hr-tt-2019/
LOCATION:Fayetteville TX Town Square\, 110 W Main St\, Fayetteville\, TX\, 78940\, United States
CATEGORIES:6 Hour,Timed
ATTACH;FMTTYPE=image/png:https://staging.ultracycling.com/wp-content/uploads/2017/01/Texas-Ultra-Spirit.png
ORGANIZER;CN="Texas Ultra Spirit":MAILTO:sanchdl@yahoo.com
END:VEVENT
BEGIN:VEVENT
DTSTART;VALUE=DATE:20190504
DTEND;VALUE=DATE:20190505
DTSTAMP:20260420T155418
CREATED:20190316T135059Z
LAST-MODIFIED:20190316T135059Z
UID:20807-1556928000-1557014399@staging.ultracycling.com
SUMMARY:6h Trackman Cycling 2019
DESCRIPTION:Racing on one of the most technical circuits in Spain\, with a total length of 4.03km\, with 8 bends to the right and 5 to the left\, a chicane and a long straight of 950m.
URL:https://staging.ultracycling.com/calendar/6h-trackman-cycling-2019/
LOCATION:Trackman Start – Almeria Circuit\, Tabernas\, Almería\, Spain
CATEGORIES:6 Hour,Timed
ATTACH;FMTTYPE=image/png:https://staging.ultracycling.com/wp-content/uploads/2017/01/Trackman.png
ORGANIZER;CN="Trackman Cycling":MAILTO:info@trackman.es
END:VEVENT
END:VCALENDAR