

BEGIN:VCALENDAR
VERSION:2.0
PRODID:-//World UltraCycling Association - ECPv6.9.1//NONSGML v1.0//EN
CALSCALE:GREGORIAN
METHOD:PUBLISH
X-WR-CALNAME:World UltraCycling Association
X-ORIGINAL-URL:https://staging.ultracycling.com
X-WR-CALDESC:Events for World UltraCycling Association
REFRESH-INTERVAL;VALUE=DURATION:PT1H
X-Robots-Tag:noindex
X-PUBLISHED-TTL:PT1H
BEGIN:VTIMEZONE
TZID:UTC
BEGIN:STANDARD
TZOFFSETFROM:+0000
TZOFFSETTO:+0000
TZNAME:UTC
DTSTART:20200101T000000
END:STANDARD
TZID:America/Los_Angeles
BEGIN:DAYLIGHT
TZOFFSETFROM:-0800
TZOFFSETTO:-0700
TZNAME:PDT
DTSTART:20200308T100000
END:DAYLIGHT
BEGIN:STANDARD
TZOFFSETFROM:-0700
TZOFFSETTO:-0800
TZNAME:PST
DTSTART:20201101T090000
END:STANDARD
BEGIN:DAYLIGHT
TZOFFSETFROM:-0800
TZOFFSETTO:-0700
TZNAME:PDT
DTSTART:20210314T100000
END:DAYLIGHT
BEGIN:STANDARD
TZOFFSETFROM:-0700
TZOFFSETTO:-0800
TZNAME:PST
DTSTART:20211107T090000
END:STANDARD
TZID:Europe/Paris
BEGIN:DAYLIGHT
TZOFFSETFROM:+0100
TZOFFSETTO:+0200
TZNAME:CEST
DTSTART:20210328T010000
END:DAYLIGHT
BEGIN:STANDARD
TZOFFSETFROM:+0200
TZOFFSETTO:+0100
TZNAME:CET
DTSTART:20211031T010000
END:STANDARD
TZID:America/Los_Angeles
BEGIN:DAYLIGHT
TZOFFSETFROM:-0800
TZOFFSETTO:-0700
TZNAME:PDT
DTSTART:20210314T100000
END:DAYLIGHT
BEGIN:STANDARD
TZOFFSETFROM:-0700
TZOFFSETTO:-0800
TZNAME:PST
DTSTART:20211107T090000
END:STANDARD
TZID:Indian/Antananarivo
BEGIN:STANDARD
TZOFFSETFROM:+0300
TZOFFSETTO:+0300
TZNAME:EAT
DTSTART:20200101T000000
END:STANDARD
TZID:Asia/Dubai
BEGIN:STANDARD
TZOFFSETFROM:+0400
TZOFFSETTO:+0400
TZNAME:+04
DTSTART:20200101T000000
END:STANDARD
TZID:America/Denver
BEGIN:DAYLIGHT
TZOFFSETFROM:-0700
TZOFFSETTO:-0600
TZNAME:MDT
DTSTART:20200308T090000
END:DAYLIGHT
BEGIN:STANDARD
TZOFFSETFROM:-0600
TZOFFSETTO:-0700
TZNAME:MST
DTSTART:20201101T080000
END:STANDARD
END:VTIMEZONE
BEGIN:VEVENT
DTSTART;VALUE=DATE:20210917
DTEND;VALUE=DATE:20210920
DTSTAMP:20260420T190348
CREATED:20201204T223046Z
LAST-MODIFIED:20201204T223046Z
UID:23147-1631836800-1632095999@staging.ultracycling.com
SUMMARY:The Silver State 508\, 2021
DESCRIPTION:Founded by John Marino in 1983 and recognized as “The Toughest 48 hours in Sport”\, it is the world’s premier 48-hour ultra cycling race. This 508-mile bicycle race\, commonly known as “The 508\,” is revered the world over for its epic mountain climbs\, stark desert scenery\, desolate roads\, and its reputation as one of the toughest but most gratifying endurance challenges available\, bar none. The Silver State 508 is a Race Across AMerica (RAAM) Qualifier.
URL:https://staging.ultracycling.com/calendar/the-silver-state-508-2021/
LOCATION:Atlantis Casino Resort\, 3800 S Virginia St\, Reno\, NV\, 89502\, United States
CATEGORIES:500 Mile +,Distance,RAAM Qualifier
ATTACH;FMTTYPE=image/jpeg:https://staging.ultracycling.com/wp-content/uploads/2016/12/ss508-e1480941093315.jpg
ORGANIZER;CN="Robert Panzera":MAILTO:robert@ccsd.com
END:VEVENT
BEGIN:VEVENT
DTSTART;VALUE=DATE:20210901
DTEND;VALUE=DATE:20210904
DTSTAMP:20260420T190348
CREATED:20210201T144650Z
LAST-MODIFIED:20210201T144650Z
UID:23415-1630454400-1630713599@staging.ultracycling.com
SUMMARY:The Great Himalayan Ultra 2021
DESCRIPTION:Inspire India brings you the world’s highest Ultra Race… With a start point elevation higher than any point on any Ultra Race in the world! Racers must report one week before the start of the race for acclimatization.
URL:https://staging.ultracycling.com/calendar/the-great-himalayan-ultra-2021/
LOCATION:Active Adventures India\, Hemis Complex\, Zangsti\, Upper Tukcha Road\, Leh Ladakh\, Jammu and Kashmir\, 194101\, India
CATEGORIES:400 Mile,Distance
ATTACH;FMTTYPE=image/jpeg:https://staging.ultracycling.com/wp-content/uploads/2018/05/31950045_1801741523215528_441732850908135424_o.jpg
ORGANIZER;CN="Inspire India - Divya Tate":MAILTO:inspireindiateam@gmail.com
END:VEVENT
BEGIN:VEVENT
DTSTART;VALUE=DATE:20210824
DTEND;VALUE=DATE:20210912
DTSTAMP:20260420T190348
CREATED:20201204T223228Z
LAST-MODIFIED:20201204T223252Z
UID:23149-1629763200-1631404799@staging.ultracycling.com
SUMMARY:GIRODITALIANOSTOP #GINS\, 2021
DESCRIPTION:The Gins is a 4\,000km ultra cycling event in Italy\, covering some of the most iconic mountain passes along the way… The Gins\, Giroditalianostop\, is an ultra cycling event in Italy. Aug 24th 2020\, from Piazzale Roma in Riccione\, more than 4\,000km. For 2021\, the event will include options for supported\, self-supported or bikepacking. The route of the race will cross the most famous mountain passes as Stelvio\, Zoncolan\, Superga\, and Cippo\, skirting the Tirrenian and the Adriatic sea\, before heading back to Riccione. The time limits will be 18 days for the Self-supported category\, 12 days for the Supported and unlimited for Bikepacking.
URL:https://staging.ultracycling.com/calendar/giroditalianostop-2021/
LOCATION:Piazzale Roma 47838 Riccione RN Italy\, Morciano di Romagna\, Italy
CATEGORIES:1000 Mile +,Distance
ATTACH;FMTTYPE=image/png:https://staging.ultracycling.com/wp-content/uploads/2019/10/gins.png
ORGANIZER;CN="Luca Masini":MAILTO:gins@giroditalianostop.it
END:VEVENT
BEGIN:VEVENT
DTSTART;VALUE=DATE:20210823
DTEND;VALUE=DATE:20210829
DTSTAMP:20260420T190348
CREATED:20210216T005928Z
LAST-MODIFIED:20210216T005928Z
UID:23466-1629676800-1630195199@staging.ultracycling.com
SUMMARY:Race Around Ireland 2021 (cancelled for 2021)
DESCRIPTION:🙁 Cancelled for 2021 🙁 \nThe cyclists in RAI have a 2\,160km journey past some of the most stunning scenery in Ireland\, Newgrange\, The Causeway Coast\, Malin Head\, The Cliffs of Moher\, The Ring of Kerry\, Mizen Head\, the Garden County (Wicklow) and back to Moynalty in County Meath. ALL within a week. The solo riders have 132 hours to finish.
URL:https://staging.ultracycling.com/calendar/race-around-ireland-2021/
LOCATION:Race Around Ireland Start\, Trim\, County Meath\, Ireland
CATEGORIES:1000 Mile +,Distance,RAAM Qualifier
ATTACH;FMTTYPE=image/jpeg:https://staging.ultracycling.com/wp-content/uploads/2016/11/RAI-logo-e1483983407124.jpg
ORGANIZER;CN="Alan Heary":MAILTO:alan@racearoundireland.com
END:VEVENT
BEGIN:VEVENT
DTSTART;VALUE=DATE:20210820
DTEND;VALUE=DATE:20210824
DTSTAMP:20260420T190348
CREATED:20201209T224550Z
LAST-MODIFIED:20201209T224550Z
UID:23215-1629417600-1629763199@staging.ultracycling.com
SUMMARY:Tour de PoMorze 2021
DESCRIPTION:
URL:https://staging.ultracycling.com/calendar/tour-de-pomorze-2021/
LOCATION:Tour de PoMorze Start\, Świnoujście\, Poland
CATEGORIES:Distance
ATTACH;FMTTYPE=image/jpeg:https://staging.ultracycling.com/wp-content/uploads/2019/01/TdPM.jpg
ORGANIZER;CN="Klub Sportowy UZNAM %C5%9Awinouj%C5%9Bcie":MAILTO:klub@ksuznam.pl
END:VEVENT
BEGIN:VEVENT
DTSTART;VALUE=DATE:20210723
DTEND;VALUE=DATE:20210731
DTSTAMP:20260420T190348
CREATED:20201204T222727Z
LAST-MODIFIED:20201204T222727Z
UID:23143-1626998400-1627689599@staging.ultracycling.com
SUMMARY:Race Across France Challenge 2021
DESCRIPTION:Race Across France is a non-stop ultra cycling event on the legendary roads of France. Note that there will be four different distance events this year; 300km\, 500km\, 1100km and 2600km. See event web site for additional information.
URL:https://staging.ultracycling.com/calendar/race-across-france-challenge-2021/
LOCATION:Mandelieu-La Napoule\, FR\, Mandelieu-La Napoule\, France
CATEGORIES:1000 Mile +,Distance
ATTACH;FMTTYPE=image/png:https://staging.ultracycling.com/wp-content/uploads/2017/10/RAF.png
END:VEVENT
BEGIN:VEVENT
DTSTART;VALUE=DATE:20210717
DTEND;VALUE=DATE:20210720
DTSTAMP:20260420T190348
CREATED:20210115T232214Z
LAST-MODIFIED:20210116T142238Z
UID:23362-1626480000-1626739199@staging.ultracycling.com
SUMMARY:Race Across Oregon 2021
DESCRIPTION:A new route for 2021\, incorporating the very best elements of prior Race Across Oregon events to present a 500-mile course with spectacular roads and scenery.  RAO is a great step toward preparing and qualifying for competing in RAAM 2022. RAO features hot and dry weather and over 35\,000 feet of climbing over the 500 mile course. \nFor 2021\, RAO has been selected by WUCA as the North American Ultra-Distance Championship event! \nA preliminary view of the route for this year’s event is available here – https://ridewithgps.com/routes/35011239 \nThe route is a loop that conveniently starts and ends at the Fairfield Inn in The Dalles OR. \nRegistration is available here – https://www.BikeReg.com/race-across-oregon
URL:https://staging.ultracycling.com/calendar/race-across-oregon-2021/
LOCATION:Race Across Oregon Start\, 2014 W 7th St\, The Dalles\, OR\, 97058\, United States
CATEGORIES:500 Mile +,Championship,Distance,RAAM Qualifier
ATTACH;FMTTYPE=image/jpeg:https://staging.ultracycling.com/wp-content/uploads/2016/11/Oregon.jpg
ORGANIZER;CN="George Thomas":MAILTO:raogeorge@gmail.com
END:VEVENT
BEGIN:VEVENT
DTSTART;VALUE=DATE:20210702
DTEND;VALUE=DATE:20210706
DTSTAMP:20260420T190348
CREATED:20201204T221843Z
LAST-MODIFIED:20201204T221843Z
UID:23133-1625184000-1625529599@staging.ultracycling.com
SUMMARY:Race Across Germany 1100km\, 2021
DESCRIPTION:The route across Germany takes solo and team racers from Flensburg in the North to Garmisch-Partenkirchenin the South. This 1100km race (with 7500m of ascent) is a RAAM qualifier.
URL:https://staging.ultracycling.com/calendar/race-across-germany-1100km-2021/
LOCATION:Race Across Germany N-S Start\, Flensburg\, Germany
CATEGORIES:500 Mile +,Distance,RAAM Qualifier
ATTACH;FMTTYPE=image/jpeg:https://staging.ultracycling.com/wp-content/uploads/2017/01/germany.jpg
ORGANIZER;CN="G%C3%B6pfert Agentur UG":MAILTO:info@goepfert-agentur.de
END:VEVENT
BEGIN:VEVENT
DTSTART;VALUE=DATE:20210612
DTEND;VALUE=DATE:20210619
DTSTAMP:20260420T190348
CREATED:20201204T222242Z
LAST-MODIFIED:20201204T222242Z
UID:23137-1623456000-1624060799@staging.ultracycling.com
SUMMARY:Race Across Europe\, 2021
DESCRIPTION:The RACE starts in Boulogne sur Mer\, France\, and passes through Germany\, Austria\, Italy and into Slovenia. Returning through Italy\, France and into Spain before crossing the orange groves of Andulucia to Tarifa\, Spain.
URL:https://staging.ultracycling.com/calendar/race-across-europe-race-2021/
LOCATION:RACE Start\, Boulogne sur Mer\, France
CATEGORIES:1000 Mile +,Distance
ATTACH;FMTTYPE=image/jpeg:https://staging.ultracycling.com/wp-content/uploads/2016/11/RACE.jpg
ORGANIZER;CN="Greenrock":MAILTO:info@greenrock.co.uk
END:VEVENT
BEGIN:VEVENT
DTSTART;VALUE=DATE:20210604
DTEND;VALUE=DATE:20210606
DTSTAMP:20260420T190348
CREATED:20201204T222111Z
LAST-MODIFIED:20201204T222111Z
UID:23135-1622764800-1622937599@staging.ultracycling.com
SUMMARY:Race Across Germany 780km\, 2021
DESCRIPTION:The 780km route (with 6800m of ascent) across Germany takes solo and team racers from Aachen in the West to Goerlitz in the East.
URL:https://staging.ultracycling.com/calendar/race-across-germany-780km-2021/
LOCATION:Race Across Germany W-E Start\, Aachen\, Germany
CATEGORIES:400 Mile,Distance
ATTACH;FMTTYPE=image/jpeg:https://staging.ultracycling.com/wp-content/uploads/2017/01/RAG-LOGO_O-W04-e1483983296726.jpg
ORGANIZER;CN="G%C3%B6pfert Agentur UG":MAILTO:info@goepfert-agentur.de
END:VEVENT
BEGIN:VEVENT
DTSTART;TZID=America/Los_Angeles:20210530T080000
DTEND;TZID=America/Los_Angeles:20210531T170000
DTSTAMP:20260420T190348
CREATED:20191203T162952Z
LAST-MODIFIED:20200116T150552Z
UID:21321-1622361600-1622480400@staging.ultracycling.com
SUMMARY:Romagna Ultra Race 2020
DESCRIPTION:The roller coaster of Romagna comes back!  After a great turnout at the first event of the Romagna Ultra Race\, the event returns with a spectacular 329 mile course.
URL:https://staging.ultracycling.com/calendar/romagna-ultra-race-2020/
LOCATION:Viale Roma 130  Forlì \, Italy\, Forli\, Italy
CATEGORIES:Distance
ATTACH;FMTTYPE=image/png:https://staging.ultracycling.com/wp-content/uploads/2019/12/Screen-Shot-2019-12-03-at-11.28.21-AM.png
ORGANIZER;CN="asd romagnaultrarace":MAILTO:info@romagnaultrarace.it
END:VEVENT
BEGIN:VEVENT
DTSTART;VALUE=DATE:20210515
DTEND;VALUE=DATE:20210517
DTSTAMP:20260420T190348
CREATED:20201204T221608Z
LAST-MODIFIED:20201204T221608Z
UID:23131-1621036800-1621209599@staging.ultracycling.com
SUMMARY:The Joe Barr 500 2021
DESCRIPTION:
URL:https://staging.ultracycling.com/calendar/joe-barr-500-2021/
LOCATION:White Horse Hotel\, 68 Clooney Rd\, Londonderry BT47 3PA\, UK\, Londonderry\, Ireland
CATEGORIES:500 Mile +,Distance
END:VEVENT
BEGIN:VEVENT
DTSTART;VALUE=DATE:20210515
DTEND;VALUE=DATE:20210516
DTSTAMP:20260420T190348
CREATED:20201204T221444Z
LAST-MODIFIED:20201204T221444Z
UID:23129-1621036800-1621123199@staging.ultracycling.com
SUMMARY:Team Joe Barr 200 2021
DESCRIPTION:
URL:https://staging.ultracycling.com/calendar/joe-barr-200-2021/
LOCATION:White Horse Hotel\, 68 Clooney Rd\, Londonderry BT47 3PA\, UK\, Londonderry\, Ireland
CATEGORIES:200 Mile,Distance
END:VEVENT
BEGIN:VEVENT
DTSTART;VALUE=DATE:20210430
DTEND;VALUE=DATE:20210504
DTSTAMP:20260420T190348
CREATED:20201206T004432Z
LAST-MODIFIED:20201206T004432Z
UID:23155-1619740800-1620086399@staging.ultracycling.com
SUMMARY:Race Across Italy\, 2021
DESCRIPTION:Race Across Italy is a loop crossing three regions\, two times into the Appennine mountains\, touching both the Tirrenian and the Adratic seas\, with more that 10.000 metres of elevation. The race is a qualifier for RAAM.
URL:https://staging.ultracycling.com/calendar/race-across-italy-2021/
LOCATION:Silvi Marina\, Silvi Marina\, Italy
CATEGORIES:500 Mile +,Championship,Distance,RAAM Qualifier
ATTACH;FMTTYPE=image/jpeg:https://staging.ultracycling.com/wp-content/uploads/2016/11/Race-Across-Italy-e1479748629213.jpg
END:VEVENT
BEGIN:VEVENT
DTSTART;VALUE=DATE:20210401
DTEND;VALUE=DATE:20210405
DTSTAMP:20260420T190348
CREATED:20200710T145024Z
LAST-MODIFIED:20201204T220702Z
UID:22321-1617235200-1617580799@staging.ultracycling.com
SUMMARY:Bessie's Creek 515 2021
DESCRIPTION:
URL:https://staging.ultracycling.com/calendar/bessies-creek-515-2021/
CATEGORIES:500 Mile +,Distance
END:VEVENT
BEGIN:VEVENT
DTSTART;VALUE=DATE:20201219
DTEND;VALUE=DATE:20201225
DTSTAMP:20260420T190348
CREATED:20200628T003158Z
LAST-MODIFIED:20200629T141615Z
UID:22284-1608336000-1608854399@staging.ultracycling.com
SUMMARY:G2G 2020\, Delhi to Mumbai
DESCRIPTION:Covering a distance of 1460 kms –The Exhilaration of what an ENDURANCE cycle ride has to offer conjures a vast mix of emotions. It is one of the most unadulterated route which will allure every rider while paddling. \nCrossing the borders of Majestic Rajasthan cutting through Thar Dessert\, into Gujrat and Maharashtra climbing few thousand meters on unknown\, undiscovered roads & territory\, language & culture and not to forget the weather conditions which may throw up plenty of obstacles!!! But who cares??? As long as it can raise the spirits and evoke a sense of trance and achievement crossing the vastness and diversity of North West merging into the western ghats of India. It may not be easy but it will be worth every moment traversing through these unknown territories on endless meandering and undulating roads\, the numerous roadside dhabas serving delectable local cuisines. \n5 nights and 6 days of exhilarating experience with warm smiling people full of curiosity while riding through small rural towns and villages. As Ernest Hemingway said “It is by riding a bicycle that you learn the contours of a country best\, since you have to sweat up the hills and coast down them.” \nThe diversity of the terrain is amalgamated by the diversity of its Riders each year \nNote – Cost includes 5 nights hotel stay \, breakfast and dinner each night\, a finishers medal\, certificate and a ride jersey and support with hydration and nutrition en-route each day
URL:https://staging.ultracycling.com/calendar/g2g-2020-delhi-to-mumbai/
LOCATION:India Gate\, New Delhi\, New Delhi\, India
CATEGORIES:Distance
ATTACH;FMTTYPE=image/jpeg:https://staging.ultracycling.com/wp-content/uploads/2020/06/G2G.jpg
ORGANIZER;CN="Chiro Mitra":MAILTO:chiromitra@gmail.com
END:VEVENT
BEGIN:VEVENT
DTSTART;VALUE=DATE:20201120
DTEND;VALUE=DATE:20201124
DTSTAMP:20260420T190348
CREATED:20200814T012111Z
LAST-MODIFIED:20200814T012958Z
UID:22538-1605830400-1606175999@staging.ultracycling.com
SUMMARY:Tour the Trace\, 2020
DESCRIPTION:Tour the Trace is a long-distance endurance Challenge. You can expect to compete with teams and athletes from all around the world. Four days of time trial cycling will allow you to test your skills against professional cyclists. Winding through Mississippi\, Alabama\, and Tennessee\, The Natchez Trace Parkway runs\, uninterrupted by stop signs or turns\, from Nashville\, Tennessee to Natchez\, Mississippi. $2\,400 cash payout to the Champion and a $1\,200 Female Incentive to the fastest overall female.  (Note – The race will be comprised of four separate time trial stages.  Participants are responsible for their own accommodations on the nights prior to and between stages.)
URL:https://staging.ultracycling.com/calendar/tour-the-trace-444-2020/
LOCATION:Natchez Trace 444 Start\, Nashville\, TN\, United States
CATEGORIES:Distance
ATTACH;FMTTYPE=image/png:https://staging.ultracycling.com/wp-content/uploads/2020/08/Trace.png
END:VEVENT
BEGIN:VEVENT
DTSTART;VALUE=DATE:20201026
DTEND;VALUE=DATE:20201101
DTSTAMP:20260420T190348
CREATED:20200617T002843Z
LAST-MODIFIED:20200617T002843Z
UID:22234-1603670400-1604188799@staging.ultracycling.com
SUMMARY:BikingMan Corsica\, 2020
DESCRIPTION:The first unsupported ultra cycling event of Corsica\, exploring the Jewel Island of Corsica with a complete circuit of the island
URL:https://staging.ultracycling.com/calendar/bikingman-corsica-2020/
LOCATION:Biguglia (Bastia) city\, France
CATEGORIES:500 Mile +,Distance
ORGANIZER;CN="Biking Man":MAILTO:axel@bikingman.com
END:VEVENT
BEGIN:VEVENT
DTSTART;VALUE=DATE:20201024
DTEND;VALUE=DATE:20201030
DTSTAMP:20260420T190348
CREATED:20191017T023538Z
LAST-MODIFIED:20200518T133727Z
UID:21199-1603497600-1604015999@staging.ultracycling.com
SUMMARY:NCOM 1000 2020
DESCRIPTION:The 1000 mile immediately leaves the QC7 and heads to Ft. Davis\, Marfa and Presidio before it takes in one of the most scenic roads in America.  Twisting\, turning\, up\, down\, find those little gears as the route snakes the Rio Grande.  At any given point you are a stone’s throw from Mexico.  Then head into Big Bend\, Castolon  and the Chisos Basin.  And let’s not forget the eerie and remote La Linda road that heads to the end of America.  Go ahead and take in Sanderson\, Dryden\, the Davis Mountains and you have yourself one heck of a RAAM Qualifying 1000 miles.  48K+ feet of vertical climbing and 48K+ feet of thrilling descents.
URL:https://staging.ultracycling.com/calendar/ncom-1000-2020/
CATEGORIES:1000 Mile +,Distance,RAAM Qualifier
ATTACH;FMTTYPE=image/png:https://staging.ultracycling.com/wp-content/uploads/2018/11/ncom-logo.png
ORGANIZER;CN="Andrew Wilis":MAILTO:andrew.willis@hollandracing.net
END:VEVENT
BEGIN:VEVENT
DTSTART;VALUE=DATE:20201024
DTEND;VALUE=DATE:20201025
DTSTAMP:20260420T190348
CREATED:20191017T024107Z
LAST-MODIFIED:20200518T133206Z
UID:21203-1603497600-1603583999@staging.ultracycling.com
SUMMARY:NCOM 208 2020
DESCRIPTION:The route takes racers through historic Ft. Davis\, up Wild Rose Pass\, the infamous Boy Scout Road\, McDonald Observatory Loop\, Marfa and back to Alpine
URL:https://staging.ultracycling.com/calendar/ncom-208-2020/
CATEGORIES:200 Mile,Distance
ATTACH;FMTTYPE=image/png:https://staging.ultracycling.com/wp-content/uploads/2018/11/ncom-logo.png
ORGANIZER;CN="Andrew Wilis":MAILTO:andrew.willis@hollandracing.net
END:VEVENT
BEGIN:VEVENT
DTSTART;VALUE=DATE:20201024
DTEND;VALUE=DATE:20201025
DTSTAMP:20260420T190348
CREATED:20191017T023858Z
LAST-MODIFIED:20200518T133503Z
UID:21201-1603497600-1603583999@staging.ultracycling.com
SUMMARY:NCOM 383 2020
DESCRIPTION:The route leaves Kokernot Park and heads to Study Butte. Then it heads to Big Bend National Park taking in both the Ross Maxwell Scenic road and the Chisos Basin Climb. The route exits the park toward Marathon before heading back to Alpine. The racers complete the 383 mile challenging route by completing the McDonald Observatory scenic loop.The 383 is a RAAM qualifying race
URL:https://staging.ultracycling.com/calendar/ncom-383-2020/
CATEGORIES:400 Mile,Distance,RAAM Qualifier
ATTACH;FMTTYPE=image/png:https://staging.ultracycling.com/wp-content/uploads/2018/11/ncom-logo.png
ORGANIZER;CN="Andrew Wilis":MAILTO:andrew.willis@hollandracing.net
END:VEVENT
BEGIN:VEVENT
DTSTART;VALUE=DATE:20201001
DTEND;VALUE=DATE:20201005
DTSTAMP:20260420T190348
CREATED:20200116T144824Z
LAST-MODIFIED:20200710T144711Z
UID:21552-1601510400-1601855999@staging.ultracycling.com
SUMMARY:Bessie's Creek 515 (Cancelled for 2020)
DESCRIPTION:
URL:https://staging.ultracycling.com/calendar/bessies-creek-515-2020/
CATEGORIES:500 Mile +,Distance
END:VEVENT
BEGIN:VEVENT
DTSTART;VALUE=DATE:20200926
DTEND;VALUE=DATE:20200928
DTSTAMP:20260420T190348
CREATED:20190712T124518Z
LAST-MODIFIED:20200323T141425Z
UID:20986-1601078400-1601251199@staging.ultracycling.com
SUMMARY:TJB Coastal 330 2020
DESCRIPTION:
URL:https://staging.ultracycling.com/calendar/joe-barr-350-2020/
LOCATION:White Horse Hotel\, 68 Clooney Rd\, Londonderry BT47 3PA\, UK\, Londonderry\, Ireland
CATEGORIES:400 Mile,Distance
END:VEVENT
BEGIN:VEVENT
DTSTART;VALUE=DATE:20200926
DTEND;VALUE=DATE:20200928
DTSTAMP:20260420T190348
CREATED:20190712T124245Z
LAST-MODIFIED:20200323T141252Z
UID:20984-1601078400-1601251199@staging.ultracycling.com
SUMMARY:The Joe Barr 500 2020
DESCRIPTION:
URL:https://staging.ultracycling.com/calendar/joe-barr-500-2020/
LOCATION:White Horse Hotel\, 68 Clooney Rd\, Londonderry BT47 3PA\, UK\, Londonderry\, Ireland
CATEGORIES:500 Mile +,Distance
END:VEVENT
BEGIN:VEVENT
DTSTART;VALUE=DATE:20200926
DTEND;VALUE=DATE:20200927
DTSTAMP:20260420T190348
CREATED:20190712T123945Z
LAST-MODIFIED:20200323T141220Z
UID:20982-1601078400-1601164799@staging.ultracycling.com
SUMMARY:Team Joe Barr 200 2020
DESCRIPTION:
URL:https://staging.ultracycling.com/calendar/joe-barr-200-2020/
LOCATION:White Horse Hotel\, 68 Clooney Rd\, Londonderry BT47 3PA\, UK\, Londonderry\, Ireland
CATEGORIES:200 Mile,Distance
END:VEVENT
BEGIN:VEVENT
DTSTART;VALUE=DATE:20200921
DTEND;VALUE=DATE:20200927
DTSTAMP:20260420T190348
CREATED:20200617T001946Z
LAST-MODIFIED:20200617T001946Z
UID:22230-1600646400-1601164799@staging.ultracycling.com
SUMMARY:BikingMan Portugal\, 2020
DESCRIPTION:The first unsupported ultra cycling event of Portugal\, exploring the mountain range of the Algarve and the many fortified cities of the Alentejo regions
URL:https://staging.ultracycling.com/calendar/bikingman-portugal-2020/
LOCATION:Faro city center\, Faro\, Portugal
CATEGORIES:500 Mile +,Distance
ATTACH;FMTTYPE=image/png:https://staging.ultracycling.com/wp-content/uploads/2020/06/Screen-Shot-2020-06-16-at-8.18.26-PM.png
ORGANIZER;CN="Biking Man":MAILTO:axel@bikingman.com
END:VEVENT
BEGIN:VEVENT
DTSTART;VALUE=DATE:20200919
DTEND;VALUE=DATE:20200920
DTSTAMP:20260420T190348
CREATED:20190918T131129Z
LAST-MODIFIED:20190918T131633Z
UID:21092-1600473600-1600559999@staging.ultracycling.com
SUMMARY:Texas Time Trials Double Century 2020
DESCRIPTION:Eight full laps of the Glen Rose time trial course\, for a Texas-sized double century.
URL:https://staging.ultracycling.com/calendar/texas-tt-200-2020/
LOCATION:Glen Rose City Park (Rodeo Park)\, 1600 Northeast Big Bend Trail\, 1600 Northeast Big Bend Trail\, TX\, 76033\, United States
CATEGORIES:200 Mile,Distance
ATTACH;FMTTYPE=image/jpeg:https://staging.ultracycling.com/wp-content/uploads/2017/01/TT-logo.jpg
ORGANIZER;CN="Holland Racing":MAILTO:andrew.willis@hollandracing.net kelley.ables@hollandracing.net
END:VEVENT
BEGIN:VEVENT
DTSTART;TZID=America/Los_Angeles:20200918T080000
DTEND;TZID=America/Los_Angeles:20200919T120000
DTSTAMP:20260420T190348
CREATED:20200309T145616Z
LAST-MODIFIED:20200325T124924Z
UID:21774-1600416000-1600516800@staging.ultracycling.com
SUMMARY:Race Around Niederosterreich
DESCRIPTION:A 600km non-stop supported race (with 6.000 Meters uphill) in the area surrounding Vienna. Also the Austrian Championships Ultra-Cycling will be held at this race\, with Christoph Strasser taking part. The race will also have a full 30-hour Livestream this year (including 3 cameras on motor-cycles on the course). \n\n\n\n\n\n\n\n\n\n\n\n\n\n\n\n\n\n\n\n\n\n\n\n\n\n\n\n\n\n\n\n\n\n  \n\n\n\n\n  \n\n\n\n\n\n\n\n\n\n\n\n\n\n\n\n\n\n\n\n\n\n\n\n\n\n\n\n\n\n\n\n  \n\n\n\n\n\n\n\n\n\n\n\n\n\n\n\n\n\n\n\n\n\n\n\n\n\n\n\n\n\n\n\n\n\n 
URL:https://staging.ultracycling.com/calendar/race-around-niederosterreich/
CATEGORIES:Distance
END:VEVENT
BEGIN:VEVENT
DTSTART;VALUE=DATE:20200918
DTEND;VALUE=DATE:20200921
DTSTAMP:20260420T190348
CREATED:20190918T144300Z
LAST-MODIFIED:20190918T144300Z
UID:21104-1600387200-1600646399@staging.ultracycling.com
SUMMARY:Tejas 500 2020
DESCRIPTION:The Tejas 500 allows riders 48 hours (no 42 or 36 hour starts as in the past) to complete 19 laps of the Glen Rose time trial course.
URL:https://staging.ultracycling.com/calendar/tejas-500-2020/
LOCATION:Glen Rose City Park (Rodeo Park)\, 1600 Northeast Big Bend Trail\, 1600 Northeast Big Bend Trail\, TX\, 76033\, United States
CATEGORIES:500 Mile +,Distance,RAAM Qualifier
ATTACH;FMTTYPE=image/jpeg:https://staging.ultracycling.com/wp-content/uploads/2017/01/TT-logo.jpg
ORGANIZER;CN="Holland Racing":MAILTO:andrew.willis@hollandracing.net kelley.ables@hollandracing.net
END:VEVENT
BEGIN:VEVENT
DTSTART;VALUE=DATE:20200918
DTEND;VALUE=DATE:20200921
DTSTAMP:20260420T190348
CREATED:20190907T121726Z
LAST-MODIFIED:20200619T021157Z
UID:21021-1600387200-1600646399@staging.ultracycling.com
SUMMARY:The Silver State 508 2020
DESCRIPTION:Founded by John Marino in 1983 and recognized as “The Toughest 48 hours in Sport”\, it is the world’s premier 48-hour ultra cycling race. This 508-mile bicycle race\, commonly known as “The 508\,” is revered the world over for its epic mountain climbs\, stark desert scenery\, desolate roads\, and its reputation as one of the toughest but most gratifying endurance challenges available\, bar none. The Silver State 508 is a Race Across AMerica (RAAM) Qualifier.
URL:https://staging.ultracycling.com/calendar/the-silver-state-508-2020/
LOCATION:Atlantis Casino Resort\, 3800 S Virginia St\, Reno\, NV\, 89502\, United States
CATEGORIES:500 Mile +,Championship,Distance,RAAM Qualifier
ATTACH;FMTTYPE=image/jpeg:https://staging.ultracycling.com/wp-content/uploads/2016/12/ss508-e1480941093315.jpg
ORGANIZER;CN="Robert Panzera":MAILTO:robert@ccsd.com
END:VEVENT
END:VCALENDAR