

BEGIN:VCALENDAR
VERSION:2.0
PRODID:-//World UltraCycling Association - ECPv6.9.1//NONSGML v1.0//EN
CALSCALE:GREGORIAN
METHOD:PUBLISH
X-WR-CALNAME:World UltraCycling Association
X-ORIGINAL-URL:https://staging.ultracycling.com
X-WR-CALDESC:Events for World UltraCycling Association
REFRESH-INTERVAL;VALUE=DURATION:PT1H
X-Robots-Tag:noindex
X-PUBLISHED-TTL:PT1H
BEGIN:VTIMEZONE
TZID:America/Denver
BEGIN:DAYLIGHT
TZOFFSETFROM:-0700
TZOFFSETTO:-0600
TZNAME:MDT
DTSTART:20180311T090000
END:DAYLIGHT
BEGIN:STANDARD
TZOFFSETFROM:-0600
TZOFFSETTO:-0700
TZNAME:MST
DTSTART:20181104T080000
END:STANDARD
TZID:Europe/Paris
BEGIN:DAYLIGHT
TZOFFSETFROM:+0100
TZOFFSETTO:+0200
TZNAME:CEST
DTSTART:20180325T010000
END:DAYLIGHT
BEGIN:STANDARD
TZOFFSETFROM:+0200
TZOFFSETTO:+0100
TZNAME:CET
DTSTART:20181028T010000
END:STANDARD
TZID:America/New_York
BEGIN:DAYLIGHT
TZOFFSETFROM:-0500
TZOFFSETTO:-0400
TZNAME:EDT
DTSTART:20180311T070000
END:DAYLIGHT
BEGIN:STANDARD
TZOFFSETFROM:-0400
TZOFFSETTO:-0500
TZNAME:EST
DTSTART:20181104T060000
END:STANDARD
TZID:America/Los_Angeles
BEGIN:DAYLIGHT
TZOFFSETFROM:-0800
TZOFFSETTO:-0700
TZNAME:PDT
DTSTART:20180311T100000
END:DAYLIGHT
BEGIN:STANDARD
TZOFFSETFROM:-0700
TZOFFSETTO:-0800
TZNAME:PST
DTSTART:20181104T090000
END:STANDARD
TZID:America/Anchorage
BEGIN:DAYLIGHT
TZOFFSETFROM:-0900
TZOFFSETTO:-0800
TZNAME:AKDT
DTSTART:20180311T110000
END:DAYLIGHT
BEGIN:STANDARD
TZOFFSETFROM:-0800
TZOFFSETTO:-0900
TZNAME:AKST
DTSTART:20181104T100000
END:STANDARD
TZID:UTC
BEGIN:STANDARD
TZOFFSETFROM:+0000
TZOFFSETTO:+0000
TZNAME:UTC
DTSTART:20180101T000000
END:STANDARD
END:VTIMEZONE
BEGIN:VEVENT
DTSTART;VALUE=DATE:20180825
DTEND;VALUE=DATE:20180827
DTSTAMP:20260420T191649
CREATED:20171201T040301Z
LAST-MODIFIED:20171201T040301Z
UID:3784-1535155200-1535327999@staging.ultracycling.com
SUMMARY:Hoodoo 300 2018
DESCRIPTION:Riders follow the 1st 140 and the last 160 miles of the Hoodoo 500 route – starting in St. George\, and traveling through Hurricane\, Colorado City\, Kanab\, Carmel Junction\, Panguitch\, Cedar City and back to St. George
URL:https://staging.ultracycling.com/calendar/hoodoo-300-2018/
LOCATION:Hoodoo Start\, 1129 S Bluff Street\, St George\, UT\, United States
CATEGORIES:200 Mile,Distance
ATTACH;FMTTYPE=image/jpeg:https://staging.ultracycling.com/wp-content/uploads/2016/11/Hoodoo-300-e1479748497666.jpg
ORGANIZER;CN="Planet Ultra":MAILTO:embassy@planetultra.com
END:VEVENT
BEGIN:VEVENT
DTSTART;VALUE=DATE:20180824
DTEND;VALUE=DATE:20180828
DTSTAMP:20260420T191649
CREATED:20180203T012858Z
LAST-MODIFIED:20180203T012858Z
UID:3951-1535068800-1535414399@staging.ultracycling.com
SUMMARY:Bałtyk – Bieszczady Tour 1008km 2018
DESCRIPTION:“Race Across Poland” – 1008km non-stop with 60 or 70-hour time limit \nDrafting is allowed in some categories.
URL:https://staging.ultracycling.com/calendar/baltyk-bieszczady-tour-2018/
LOCATION:Świnoujście City Hall\, 1/5 Wojska Polskiego Street\, Świnoujście\, Poland
CATEGORIES:500 Mile +,Distance
ORGANIZER;CN="Robert Janik":MAILTO:tour@1008.pl
END:VEVENT
BEGIN:VEVENT
DTSTART;VALUE=DATE:20180824
DTEND;VALUE=DATE:20180828
DTSTAMP:20260420T191649
CREATED:20171201T040133Z
LAST-MODIFIED:20171201T040133Z
UID:3785-1535068800-1535414399@staging.ultracycling.com
SUMMARY:Hoodoo 500 2018
DESCRIPTION:The route goes through\, around or by three National Parks: Zion\, Bryce and Capitol Reef; three National Monuments: Pipe Springs\, Grand Staircase-Escalante and Cedar Breaks; countless Utah State Parks including Anasazi\, Coral Pink Sand Dunes\, Kodachrome and Snow Canyon\, and meanders in and out of the Dixie National Forest
URL:https://staging.ultracycling.com/calendar/hoodoo-500-2018/
LOCATION:Hoodoo Start\, 1129 S Bluff Street\, St George\, UT\, United States
CATEGORIES:500 Mile +,Distance,RAAM Qualifier
ATTACH;FMTTYPE=image/png:https://staging.ultracycling.com/wp-content/uploads/2016/11/logo.png
ORGANIZER;CN="Planet Ultra":MAILTO:embassy@planetultra.com
END:VEVENT
BEGIN:VEVENT
DTSTART;VALUE=DATE:20180818
DTEND;VALUE=DATE:20180826
DTSTAMP:20260420T191649
CREATED:20171021T015341Z
LAST-MODIFIED:20171021T015341Z
UID:3650-1534550400-1535241599@staging.ultracycling.com
SUMMARY:Race Across France Challenge 2018
DESCRIPTION:Race Across France is a non-stop ultra cycling event on the legendary roads of France.
URL:https://staging.ultracycling.com/calendar/race-across-france-challenge-2018/
CATEGORIES:500 Mile +,Distance
ATTACH;FMTTYPE=image/png:https://staging.ultracycling.com/wp-content/uploads/2017/10/RAF.png
END:VEVENT
BEGIN:VEVENT
DTSTART;VALUE=DATE:20180818
DTEND;VALUE=DATE:20180826
DTSTAMP:20260420T191649
CREATED:20171021T014954Z
LAST-MODIFIED:20171021T014954Z
UID:3642-1534550400-1535241599@staging.ultracycling.com
SUMMARY:Race Across France Ultra 2018
DESCRIPTION:Race Across France is a non-stop ultra cycling event on the legendary roads of France. You have to complete 2600 km through the hardest climbs and beautiful landscapes\, ascend more than 40’000 meters\, in less than 7 days.
URL:https://staging.ultracycling.com/calendar/race-across-france-ultra-2018/
CATEGORIES:1000 Mile +,Distance
ATTACH;FMTTYPE=image/png:https://staging.ultracycling.com/wp-content/uploads/2017/10/RAF.png
END:VEVENT
BEGIN:VEVENT
DTSTART;VALUE=DATE:20180818
DTEND;VALUE=DATE:20180819
DTSTAMP:20260420T191649
CREATED:20180108T192655Z
LAST-MODIFIED:20180108T192655Z
UID:3875-1534550400-1534636799@staging.ultracycling.com
SUMMARY:Mid-Atlantic 100 Mile 2018
DESCRIPTION:The 100 Mile WUCA National Championship.
URL:https://staging.ultracycling.com/calendar/mid-atlantic-100-mile-2018/
LOCATION:Washington High School\, 400 Slatestone Road\, Washington\, NC\, 27889\, United States
CATEGORIES:100 Mile,Championship,Distance
ORGANIZER;CN="Mid-Atlantic Ultra Sports":MAILTO:maxwell@midatlanticultrasports.com
END:VEVENT
BEGIN:VEVENT
DTSTART;VALUE=DATE:20180818
DTEND;VALUE=DATE:20180819
DTSTAMP:20260420T191649
CREATED:20171201T035904Z
LAST-MODIFIED:20171201T035904Z
UID:3782-1534550400-1534550400@staging.ultracycling.com
SUMMARY:Ultra Défi vee Kombucha 2018
DESCRIPTION:A loop of 1000km to do in less than 62h by bike
URL:https://staging.ultracycling.com/calendar/ultra-defi-vee-kombucha-2018/
LOCATION:Ultra Defi Start\, Valinouët\, Quebec\, Canada
CATEGORIES:500 Mile +,Distance,RAAM Qualifier
ATTACH;FMTTYPE=image/jpeg:https://staging.ultracycling.com/wp-content/uploads/2016/11/Ultra-Defi.jpg
ORGANIZER;CN="RUQ":MAILTO:sylvain@ultradefi.com
END:VEVENT
BEGIN:VEVENT
DTSTART;VALUE=DATE:20180816
DTEND;VALUE=DATE:20180820
DTSTAMP:20260420T191649
CREATED:20171201T035622Z
LAST-MODIFIED:20171201T035622Z
UID:3780-1534377600-1534723199@staging.ultracycling.com
SUMMARY:TorTour 2018
DESCRIPTION:
URL:https://staging.ultracycling.com/calendar/tortour-2018/
LOCATION:IWC Arena Schaffhausen\, Breitenaustrasse 117\, Schaffhausen\, 8200\, Switzerland
CATEGORIES:500 Mile +,Distance,RAAM Qualifier
ATTACH;FMTTYPE=image/jpeg:https://staging.ultracycling.com/wp-content/uploads/2016/11/Tortour-e1483983344486.jpg
ORGANIZER;CN="TorTour":MAILTO:marianne.johann@tortour.ch
END:VEVENT
BEGIN:VEVENT
DTSTART;VALUE=DATE:20180814
DTEND;VALUE=DATE:20180819
DTSTAMP:20260420T191649
CREATED:20180211T221212Z
LAST-MODIFIED:20180211T221212Z
UID:3979-1534204800-1534636799@staging.ultracycling.com
SUMMARY:Race Around Austria 1500km 2018
DESCRIPTION:Gives you the feel of the classic Race Around Austria but with fewer meters of climbing (around 17\,500) and just 1500km
URL:https://staging.ultracycling.com/calendar/race-around-austria-1500km-2018/
LOCATION:Attergau\, St. Georgen im Attergau\, A-4880\, Austria
CATEGORIES:500 Mile +,Distance
ATTACH;FMTTYPE=image/png:https://staging.ultracycling.com/wp-content/uploads/2016/11/RAA-e1479748579346.png
END:VEVENT
BEGIN:VEVENT
DTSTART;VALUE=DATE:20180813
DTEND;VALUE=DATE:20180819
DTSTAMP:20260420T191649
CREATED:20180211T221309Z
LAST-MODIFIED:20180211T221309Z
UID:3978-1534118400-1534636799@staging.ultracycling.com
SUMMARY:Race Around Austria 2018
DESCRIPTION:Cycle 2\,200 kilometers (including 30\,000 meters of climbing) NONSTOP once around Austria on streets that run along or near the border
URL:https://staging.ultracycling.com/calendar/race-around-austria-2017-2/
LOCATION:Attergau\, St. Georgen im Attergau\, A-4880\, Austria
CATEGORIES:1000 Mile +,Distance,RAAM Qualifier
ATTACH;FMTTYPE=image/png:https://staging.ultracycling.com/wp-content/uploads/2016/11/RAA-e1479748579346.png
END:VEVENT
BEGIN:VEVENT
DTSTART;VALUE=DATE:20180811
DTEND;VALUE=DATE:20180812
DTSTAMP:20260420T191649
CREATED:20180123T003940Z
LAST-MODIFIED:20180123T003940Z
UID:3936-1533945600-1534031999@staging.ultracycling.com
SUMMARY:Nightmare Tour 225 2018
DESCRIPTION:
URL:https://staging.ultracycling.com/calendar/nightmare-tour-2018-2/
LOCATION:Nightmare Tour Start\, 185 Stoudtsburg Rd\, Reinholds\, PA\, 17569\, United States
CATEGORIES:Distance
ATTACH;FMTTYPE=image/jpeg:https://staging.ultracycling.com/wp-content/uploads/2016/11/Nightmare-200.jpg
ORGANIZER;CN="Nightmare Tour":MAILTO:marketing@thenightmaretour.com
END:VEVENT
BEGIN:VEVENT
DTSTART;VALUE=DATE:20180811
DTEND;VALUE=DATE:20180812
DTSTAMP:20260420T191649
CREATED:20180120T055001Z
LAST-MODIFIED:20180120T055001Z
UID:3927-1533945600-1534031999@staging.ultracycling.com
SUMMARY:Nightmare Tour 177 2018
DESCRIPTION:
URL:https://staging.ultracycling.com/calendar/nightmare-tour-177-2018/
LOCATION:Nightmare Tour Start\, 185 Stoudtsburg Rd\, Reinholds\, PA\, 17569\, United States
CATEGORIES:Distance
ATTACH;FMTTYPE=image/jpeg:https://staging.ultracycling.com/wp-content/uploads/2016/11/Nightmare-200.jpg
ORGANIZER;CN="Nightmare Tour":MAILTO:marketing@thenightmaretour.com
END:VEVENT
BEGIN:VEVENT
DTSTART;VALUE=DATE:20180811
DTEND;VALUE=DATE:20180812
DTSTAMP:20260420T191649
CREATED:20180120T054920Z
LAST-MODIFIED:20180120T054920Z
UID:3926-1533945600-1534031999@staging.ultracycling.com
SUMMARY:Nightmare Tour 111 2018
DESCRIPTION:
URL:https://staging.ultracycling.com/calendar/nightmare-tour-111-2018/
LOCATION:Nightmare Tour Start\, 185 Stoudtsburg Rd\, Reinholds\, PA\, 17569\, United States
CATEGORIES:Distance
ATTACH;FMTTYPE=image/jpeg:https://staging.ultracycling.com/wp-content/uploads/2016/11/Nightmare-200.jpg
ORGANIZER;CN="Nightmare Tour":MAILTO:marketing@thenightmaretour.com
END:VEVENT
BEGIN:VEVENT
DTSTART;VALUE=DATE:20180811
DTEND;VALUE=DATE:20180812
DTSTAMP:20260420T191649
CREATED:20180120T054727Z
LAST-MODIFIED:20180120T054727Z
UID:3924-1533945600-1534031999@staging.ultracycling.com
SUMMARY:Nightmare Tour 200 2018
DESCRIPTION:The first leg of the double century route will be from Adamstown and will incorporate some of the roads over to the Galen Hall/ Wernersville area (Berks County) and back to Adamstown (Lancaster County).
URL:https://staging.ultracycling.com/calendar/nightmare-tour-2018/
LOCATION:Nightmare Tour Start\, 185 Stoudtsburg Rd\, Reinholds\, PA\, 17569\, United States
CATEGORIES:200 Mile,Distance
ATTACH;FMTTYPE=image/jpeg:https://staging.ultracycling.com/wp-content/uploads/2016/11/Nightmare-200.jpg
ORGANIZER;CN="Nightmare Tour":MAILTO:marketing@thenightmaretour.com
END:VEVENT
BEGIN:VEVENT
DTSTART;VALUE=DATE:20180720
DTEND;VALUE=DATE:20180724
DTSTAMP:20260420T191649
CREATED:20171025T003049Z
LAST-MODIFIED:20171025T003049Z
UID:3663-1532044800-1532390399@staging.ultracycling.com
SUMMARY:Race Across Oregon 2018
DESCRIPTION:Race Across Oregon is the best qualifier to prepare you to compete in RAAM. RAO features hot and dry weather and almost 33\,000 feet of climbing over the 625 mile course.
URL:https://staging.ultracycling.com/calendar/race-across-oregon-2018/
LOCATION:Race Across Oregon Start\, 2014 W 7th St\, The Dalles\, OR\, 97058\, United States
CATEGORIES:500 Mile +,Distance,RAAM Qualifier
ATTACH;FMTTYPE=image/jpeg:https://staging.ultracycling.com/wp-content/uploads/2016/11/Oregon.jpg
ORGANIZER;CN="George Thomas":MAILTO:raogeorge@gmail.com
END:VEVENT
BEGIN:VEVENT
DTSTART;VALUE=DATE:20180713
DTEND;VALUE=DATE:20180715
DTSTAMP:20260420T191649
CREATED:20171201T035332Z
LAST-MODIFIED:20171201T035332Z
UID:3778-1531440000-1531612799@staging.ultracycling.com
SUMMARY:Fireweed 400 2018
DESCRIPTION:The 400-mile course starts at Sheep Mountain Lodge\, follows the same route as the 200-mile course through Glennallen and into Valdez. The course then turns around at Captain Joe’s Gas Station\, 139 Pioneer Drive\, in Valdez and returns by the same route to Sheep Mountain Lodge.
URL:https://staging.ultracycling.com/calendar/fireweed-400-2018/
LOCATION:Fireweed 400 Start – Sheep Mountain Lodge\, 17701 W Glenn Hwy\, Sutton\, AK\, 99674\, United States
CATEGORIES:400 Mile,Distance,RAAM Qualifier
ATTACH;FMTTYPE=image/jpeg:https://staging.ultracycling.com/wp-content/uploads/2017/01/Fireweed-e1483898388171.jpg
END:VEVENT
BEGIN:VEVENT
DTSTART;VALUE=DATE:20180706
DTEND;VALUE=DATE:20180709
DTSTAMP:20260420T191649
CREATED:20171201T035143Z
LAST-MODIFIED:20171201T035143Z
UID:3776-1530835200-1531094399@staging.ultracycling.com
SUMMARY:D+ Ultracycling Dolomitica 2018
DESCRIPTION:A 675km race in Italy\, covering 16 mountain passes with 16000m of ascent\, starting and finishing in Cison di Valmarino.
URL:https://staging.ultracycling.com/calendar/d-ultracycling-dolomitica-2018/
LOCATION:Ultracycling Dolomitica Start\, Cison di Valmarino\, Treviso\, Italy
CATEGORIES:400 Mile,Distance,RAAM Qualifier
ATTACH;FMTTYPE=image/jpeg:https://staging.ultracycling.com/wp-content/uploads/2017/01/logo-Dolo-piccolo2-e1483376437104.jpg
ORGANIZER;CN="Ultracycling Dolomitica":MAILTO:info@ultracyclingdolomitica.com
END:VEVENT
BEGIN:VEVENT
DTSTART;VALUE=DATE:20180701
DTEND;VALUE=DATE:20180713
DTSTAMP:20260420T191649
CREATED:20170906T230323Z
LAST-MODIFIED:20170906T230323Z
UID:3273-1530403200-1531439999@staging.ultracycling.com
SUMMARY:Inca Divide 2018
DESCRIPTION:A truly epic route traversing 1800km in the Andes Cordillera\, with 31\,000m of total elevation\, unsupported.
URL:https://staging.ultracycling.com/calendar/inca-divide-2018/
LOCATION:Inca Divide Start\, Quito\, Ecuador
CATEGORIES:1000 Mile +,Distance
ATTACH;FMTTYPE=image/jpeg:https://staging.ultracycling.com/wp-content/uploads/2016/11/IncaDivide-e1479748554581.jpg
ORGANIZER;CN="Biking Man":MAILTO:axel@bikingman.com
END:VEVENT
BEGIN:VEVENT
DTSTART;VALUE=DATE:20180630
DTEND;VALUE=DATE:20180706
DTSTAMP:20260420T191649
CREATED:20171205T030224Z
LAST-MODIFIED:20171205T030224Z
UID:3807-1530316800-1530835199@staging.ultracycling.com
SUMMARY:Race Across Europe (RACE) 2018
DESCRIPTION:The RACE starts in Boulogne sur Mer\, France\, and passes through Germany\, Austria\, Italy and into Slovenia. Returning through Italy\, France and into Spain before crossing the orange groves of Andulucia to Tarifa\, Spain.
URL:https://staging.ultracycling.com/calendar/race-across-europe-race-2018/
LOCATION:RACE Start\, Boulogne sur Mer\, France
CATEGORIES:1000 Mile +,Championship,Distance
ATTACH;FMTTYPE=image/jpeg:https://staging.ultracycling.com/wp-content/uploads/2016/11/RACE.jpg
ORGANIZER;CN="Greenrock":MAILTO:info@greenrock.co.uk
END:VEVENT
BEGIN:VEVENT
DTSTART;VALUE=DATE:20180630
DTEND;VALUE=DATE:20180702
DTSTAMP:20260420T191649
CREATED:20180203T012158Z
LAST-MODIFIED:20180203T012158Z
UID:3949-1530316800-1530489599@staging.ultracycling.com
SUMMARY:Pierścień 1000 Jezior 2018
DESCRIPTION:“The ring of a thousand lakes” – 610km non-stop in North East Poland with about 4000 m of climbing \nDrafting is allowed in some categories.
URL:https://staging.ultracycling.com/calendar/pierscien-1000-jezior-2018/
LOCATION:Pierścień 1000 Jezior Start\, Świękitki 1a\, 11-135 Lubomino\, Świękity\, Poland
CATEGORIES:400 Mile,Distance
ORGANIZER;CN="Robert Janik":MAILTO:tour@1008.pl
END:VEVENT
BEGIN:VEVENT
DTSTART;VALUE=DATE:20180629
DTEND;VALUE=DATE:20180702
DTSTAMP:20260420T191649
CREATED:20171201T034414Z
LAST-MODIFIED:20171201T034414Z
UID:3772-1530230400-1530489599@staging.ultracycling.com
SUMMARY:Race Across Germany 1100km 2018
DESCRIPTION:The route across Germany takes solo and team racers from Flensburg in the North to Garmisch-Partenkirchenin the South. This 1100km race (with 7500m of ascent) is a RAAM qualifier.
URL:https://staging.ultracycling.com/calendar/race-across-germany-1100km-2018/
LOCATION:Race Across Germany N-S Start\, Flensburg\, Germany
CATEGORIES:500 Mile +,Distance,RAAM Qualifier
ATTACH;FMTTYPE=image/jpeg:https://staging.ultracycling.com/wp-content/uploads/2017/01/germany.jpg
ORGANIZER;CN="G%C3%B6pfert Agentur UG":MAILTO:info@goepfert-agentur.de
END:VEVENT
BEGIN:VEVENT
DTSTART;VALUE=DATE:20180612
DTEND;VALUE=DATE:20180626
DTSTAMP:20260420T191649
CREATED:20180211T010510Z
LAST-MODIFIED:20180211T010510Z
UID:3965-1528761600-1529971199@staging.ultracycling.com
SUMMARY:Race Across America 2018
DESCRIPTION:The route travels west to east across the North American continent\, traversing three major mountain ranges (Sierra\, Rocky and Appalachian)\, crossing four of America’s longest rivers (Colorado\, Mississippi\, Missouri and Ohio) and the Great Plains. Also\, passing through such iconic American landmarks as the Mojave and Sonoran Deserts\, Monument Valley\, Great Plains and Gettysburg. Finishing the RAAM is seen by many as the pinnacle of ultracycling achievement
URL:https://staging.ultracycling.com/calendar/race-across-america-2018/
LOCATION:Oceanside Pier\, The Strand N\, Oceanside\, CA\, 92054\, United States
CATEGORIES:1000 Mile +,Distance,RAAM Qualifier
ATTACH;FMTTYPE=image/jpeg:https://staging.ultracycling.com/wp-content/uploads/2016/11/RAAM.jpg
END:VEVENT
BEGIN:VEVENT
DTSTART;VALUE=DATE:20180612
DTEND;VALUE=DATE:20180617
DTSTAMP:20260420T191649
CREATED:20171201T034054Z
LAST-MODIFIED:20171201T034054Z
UID:3770-1528761600-1529193599@staging.ultracycling.com
SUMMARY:Race Across the West 2018
DESCRIPTION:The first 930 miles of RAAM\, traversing some of the most beautiful country in the west\, leaving the beach in Oceanside\, climbing the Coastal Range and the dropping into the scorching desert. After crossing the deserts of California and Arizona\, racers begin a gradual climb into the mountains surrounding Flagstaff\, AZ and eventually into the Rocky Mountains. The race finishes on the Animas River in the cycling mecca of Durango\, CO. The RAW is a qualifying event for RAAM.
URL:https://staging.ultracycling.com/calendar/race-across-the-west-2018/
LOCATION:Oceanside Pier\, The Strand N\, Oceanside\, CA\, 92054\, United States
CATEGORIES:500 Mile +,Distance,RAAM Qualifier
ATTACH;FMTTYPE=image/jpeg:https://staging.ultracycling.com/wp-content/uploads/2016/11/RAW-e1479748600570.jpg
END:VEVENT
BEGIN:VEVENT
DTSTART;VALUE=DATE:20180601
DTEND;VALUE=DATE:20180603
DTSTAMP:20260420T191649
CREATED:20171201T034731Z
LAST-MODIFIED:20171201T034731Z
UID:3773-1527811200-1527983999@staging.ultracycling.com
SUMMARY:Race Across Germany 760km 2018
DESCRIPTION:The 760km route (with 6800m of ascent) across Germany takes solo and team racers from Aachen in the West to Goerlitz in the East.
URL:https://staging.ultracycling.com/calendar/race-across-germany-760km-2018/
LOCATION:Race Across Germany W-E Start\, Aachen\, Germany
CATEGORIES:400 Mile,Distance
ATTACH;FMTTYPE=image/jpeg:https://staging.ultracycling.com/wp-content/uploads/2017/01/RAG-LOGO_O-W04-e1483983296726.jpg
ORGANIZER;CN="G%C3%B6pfert Agentur UG":MAILTO:info@goepfert-agentur.de
END:VEVENT
BEGIN:VEVENT
DTSTART;VALUE=DATE:20180530
DTEND;VALUE=DATE:20180603
DTSTAMP:20260420T191649
CREATED:20170828T024541Z
LAST-MODIFIED:20170828T024541Z
UID:3236-1527638400-1527983999@staging.ultracycling.com
SUMMARY:Glocknerman ULTRA 2018
DESCRIPTION:Start and finish is in the styrian capital Graz and routes the athletes over 1000 kilometre and 17.000 metres in altitude twice over the highest austrian mountain\, the Großglockner. The race is a RAAM qualifier.
URL:https://staging.ultracycling.com/calendar/glocknerman-ultra-2018/
LOCATION:Glocknerman Start\, Graz\, Austria
CATEGORIES:500 Mile +,Distance,RAAM Qualifier
ATTACH;FMTTYPE=image/png:https://staging.ultracycling.com/wp-content/uploads/2017/01/glocknerman_logo_ohnetext-e1483983255989.png
END:VEVENT
BEGIN:VEVENT
DTSTART;VALUE=DATE:20180530
DTEND;VALUE=DATE:20180603
DTSTAMP:20260420T191649
CREATED:20170828T024405Z
LAST-MODIFIED:20170828T024405Z
UID:3234-1527638400-1527983999@staging.ultracycling.com
SUMMARY:Glocknerman CLASSIC 2018
DESCRIPTION:With 888 km and 12.500 metres of altitude the Classic route leads the athletes over 50 years of age from Graz to Winklern\, through the Lesachtal\, on the Großglockner and back to Graz. The race is a RAAM qualifier.
URL:https://staging.ultracycling.com/calendar/glocknerman-classic-2018/
LOCATION:Glocknerman Start\, Graz\, Austria
CATEGORIES:500 Mile +,Distance,RAAM Qualifier
ATTACH;FMTTYPE=image/png:https://staging.ultracycling.com/wp-content/uploads/2017/01/glocknerman_logo_ohnetext-e1483983255989.png
END:VEVENT
BEGIN:VEVENT
DTSTART;VALUE=DATE:20180516
DTEND;VALUE=DATE:20180521
DTSTAMP:20260420T191649
CREATED:20171023T220527Z
LAST-MODIFIED:20171023T220527Z
UID:3654-1526428800-1526860799@staging.ultracycling.com
SUMMARY:Race Around Slovenia 2018
DESCRIPTION:1250 km\, 205 Slovenian villages and cities\, 86 municipalities\, starting and ending in Postojna\, Slovenia.
URL:https://staging.ultracycling.com/calendar/race-around-slovenia-2018/
LOCATION:Race Around Slovenia Start\, Postojna\, Slovenia
CATEGORIES:500 Mile +,Distance,RAAM Qualifier
ATTACH;FMTTYPE=image/png:https://staging.ultracycling.com/wp-content/uploads/2017/10/ras-logo.png
END:VEVENT
BEGIN:VEVENT
DTSTART;VALUE=DATE:20180509
DTEND;VALUE=DATE:20180514
DTSTAMP:20260420T191649
CREATED:20170906T225849Z
LAST-MODIFIED:20170906T225849Z
UID:3271-1525824000-1526255999@staging.ultracycling.com
SUMMARY:Race Around Denmark CHALLENGE 2018
DESCRIPTION:The route follows the first part of the EXTREME route around Jutland\, is 800 kilometers long and features approximately 5\,200 meters of climbing.
URL:https://staging.ultracycling.com/calendar/race-around-denmark-challenge-2018/
LOCATION:CASA Arena Horsens\, Langmarksvej 59\, 8700\, Horsens\, Denmark
CATEGORIES:500 Mile +,Distance,RAAM Qualifier
ORGANIZER;CN="SUB10 Sports &amp%3B Events":MAILTO:info@racearounddenmark.org
END:VEVENT
BEGIN:VEVENT
DTSTART;VALUE=DATE:20180509
DTEND;VALUE=DATE:20180514
DTSTAMP:20260420T191649
CREATED:20170831T023639Z
LAST-MODIFIED:20170831T023639Z
UID:3256-1525824000-1526255999@staging.ultracycling.com
SUMMARY:Race Around Denmark EXTREME 2018
DESCRIPTION:
URL:https://staging.ultracycling.com/calendar/race-around-denmark-extreme-2018/
LOCATION:CASA Arena Horsens\, Langmarksvej 59\, 8700\, Horsens\, Denmark
CATEGORIES:1000 Mile +,Distance,RAAM Qualifier
ORGANIZER;CN="SUB10 Sports &amp%3B Events":MAILTO:info@racearounddenmark.org
END:VEVENT
BEGIN:VEVENT
DTSTART;VALUE=DATE:20180428
DTEND;VALUE=DATE:20180501
DTSTAMP:20260420T191649
CREATED:20171201T033555Z
LAST-MODIFIED:20171201T033555Z
UID:3768-1524873600-1525132799@staging.ultracycling.com
SUMMARY:Race Across Italy 2018
DESCRIPTION:Race Across Italy is a loop crossing three regions\, two times into the Appennine mountains\, touching both the Tirrenian and the Adratic seas\, with more that 10.000 metres of elevation. The race is a qualifier for RAAM.
URL:https://staging.ultracycling.com/calendar/race-across-italy-2018/
LOCATION:Silvi Marina\, Silvi Marina\, Italy
CATEGORIES:500 Mile +,Distance,RAAM Qualifier
ATTACH;FMTTYPE=image/jpeg:https://staging.ultracycling.com/wp-content/uploads/2016/11/Race-Across-Italy-e1479748629213.jpg
END:VEVENT
END:VCALENDAR