

BEGIN:VCALENDAR
VERSION:2.0
PRODID:-//World UltraCycling Association - ECPv6.9.1//NONSGML v1.0//EN
CALSCALE:GREGORIAN
METHOD:PUBLISH
X-ORIGINAL-URL:https://staging.ultracycling.com
X-WR-CALDESC:Events for World UltraCycling Association
REFRESH-INTERVAL;VALUE=DURATION:PT1H
X-Robots-Tag:noindex
X-PUBLISHED-TTL:PT1H
BEGIN:VTIMEZONE
TZID:America/Denver
BEGIN:DAYLIGHT
TZOFFSETFROM:-0700
TZOFFSETTO:-0600
TZNAME:MDT
DTSTART:20170312T090000
END:DAYLIGHT
BEGIN:STANDARD
TZOFFSETFROM:-0600
TZOFFSETTO:-0700
TZNAME:MST
DTSTART:20171105T080000
END:STANDARD
TZID:America/Chicago
BEGIN:DAYLIGHT
TZOFFSETFROM:-0600
TZOFFSETTO:-0500
TZNAME:CDT
DTSTART:20170312T080000
END:DAYLIGHT
BEGIN:STANDARD
TZOFFSETFROM:-0500
TZOFFSETTO:-0600
TZNAME:CST
DTSTART:20171105T070000
END:STANDARD
TZID:UTC
BEGIN:STANDARD
TZOFFSETFROM:+0000
TZOFFSETTO:+0000
TZNAME:UTC
DTSTART:20170101T000000
END:STANDARD
TZID:Europe/Helsinki
BEGIN:DAYLIGHT
TZOFFSETFROM:+0200
TZOFFSETTO:+0300
TZNAME:EEST
DTSTART:20170326T010000
END:DAYLIGHT
BEGIN:STANDARD
TZOFFSETFROM:+0300
TZOFFSETTO:+0200
TZNAME:EET
DTSTART:20171029T010000
END:STANDARD
TZID:Europe/Paris
BEGIN:DAYLIGHT
TZOFFSETFROM:+0100
TZOFFSETTO:+0200
TZNAME:CEST
DTSTART:20170326T010000
END:DAYLIGHT
BEGIN:STANDARD
TZOFFSETFROM:+0200
TZOFFSETTO:+0100
TZNAME:CET
DTSTART:20171029T010000
END:STANDARD
TZID:America/New_York
BEGIN:DAYLIGHT
TZOFFSETFROM:-0500
TZOFFSETTO:-0400
TZNAME:EDT
DTSTART:20170312T070000
END:DAYLIGHT
BEGIN:STANDARD
TZOFFSETFROM:-0400
TZOFFSETTO:-0500
TZNAME:EST
DTSTART:20171105T060000
END:STANDARD
TZID:America/Los_Angeles
BEGIN:DAYLIGHT
TZOFFSETFROM:-0800
TZOFFSETTO:-0700
TZNAME:PDT
DTSTART:20170312T100000
END:DAYLIGHT
BEGIN:STANDARD
TZOFFSETFROM:-0700
TZOFFSETTO:-0800
TZNAME:PST
DTSTART:20171105T090000
END:STANDARD
TZID:America/Anchorage
BEGIN:DAYLIGHT
TZOFFSETFROM:-0900
TZOFFSETTO:-0800
TZNAME:AKDT
DTSTART:20170312T110000
END:DAYLIGHT
BEGIN:STANDARD
TZOFFSETFROM:-0800
TZOFFSETTO:-0900
TZNAME:AKST
DTSTART:20171105T100000
END:STANDARD
END:VTIMEZONE
BEGIN:VEVENT
DTSTART;VALUE=DATE:20171014
DTEND;VALUE=DATE:20171019
DTSTAMP:20260421T003141
CREATED:20161121T032425Z
LAST-MODIFIED:20161121T032425Z
UID:711-1507939200-1508371199@staging.ultracycling.com
SUMMARY:No Country for Old Men Llewelyn Moss 1000 mile 2017
DESCRIPTION:The 1000 mile route immediately heads to Study Butte and then into Big Bend National Park. Racers will challenge the Ross Maxwell Scenic road and the spectacular Chisos Basin climb up to 6000′. After returning to Alpine the racers head to Marfa\, Ft. Davis and the challenging McDonalds Obervatory loop before once again heading West to Marathon\, Sanderson\, Dryden\, Ft. Stockton and back to Marathon. They will then head to the eerie and legendary La Linda highway before returning to Panther Junction\, the Ross Maxwell Scenic road\, Study Butte and finishing up the epic 1000 miles in Alpine
URL:https://staging.ultracycling.com/calendar/no-country-for-old-men-llewelyn-moss-1000-mile-2017/
LOCATION:NV
CATEGORIES:1000 Mile +,Distance,RAAM Qualifier
ATTACH;FMTTYPE=image/jpeg:https://staging.ultracycling.com/wp-content/uploads/2016/11/NCOM-e1479748738902.jpg
ORGANIZER;CN="Dex Tooke":MAILTO:dextooke@gmail.com
END:VEVENT
BEGIN:VEVENT
DTSTART;VALUE=DATE:20171014
DTEND;VALUE=DATE:20171016
DTSTAMP:20260421T003141
CREATED:20161121T032425Z
LAST-MODIFIED:20161121T032425Z
UID:710-1507939200-1508111999@staging.ultracycling.com
SUMMARY:No Country for Old Men Anton Chigurh 383 2017
DESCRIPTION:The route leaves Kokernot Park and heads to Study Butte. Then it heads to Big Bend National Park taking in both the Ross Maxwell Scenic road and the Chisos Basin Climb. The route exits the park toward Marathon before heading back to Alpine. The racers complete the 383 mile challenging route by completing the McDonalds Observatory scenic loop.The 383 Anton Chigurh is a RAAM qualifying race
URL:https://staging.ultracycling.com/calendar/no-country-for-old-men-anton-chigurh-383-2017/
LOCATION:NV
CATEGORIES:200 Mile,Distance,RAAM Qualifier
ATTACH;FMTTYPE=image/png:https://staging.ultracycling.com/wp-content/uploads/2016/11/NCOM2-e1479748729237.png
ORGANIZER;CN="Dex Tooke":MAILTO:dextooke@gmail.com
END:VEVENT
BEGIN:VEVENT
DTSTART;VALUE=DATE:20171006
DTEND;VALUE=DATE:20171009
DTSTAMP:20260421T003141
CREATED:20170109T021637Z
LAST-MODIFIED:20170109T021637Z
UID:1475-1507248000-1507507199@staging.ultracycling.com
SUMMARY:Natchez Trace 444 2017
DESCRIPTION:The Natchez Trace 444\, often referred to as simply “The 444”\, runs the length of the Natchez Trace Parkway from Nashville\, Tennessee to Natchez\, Mississippi. The Natchez Trace National Park is 444 miles long and is known as the narrowest National Park in the US.  It runs the entire length of the Natchez Trace Parkway. During The 444 riders will encounter: beautiful scenery\, great pavement\, armadillos\, wild turkeys\, white tail deer\, possibly a javalina\, changing fall foliage + no stop signs\, no traffic lights and no turns. The 444 is the only RAAM qualifier that is not a race.
URL:https://staging.ultracycling.com/calendar/natchez-trace-444-2017/
LOCATION:Natchez Trace 444 Start\, Nashville\, TN\, United States
CATEGORIES:400 Mile,Distance,RAAM Qualifier
ATTACH;FMTTYPE=image/jpeg:https://staging.ultracycling.com/wp-content/uploads/2017/01/Natchez-Trace-e1483983484701.jpg
ORGANIZER;CN="George Thomas":MAILTO:raogeorge@gmail.com
END:VEVENT
BEGIN:VEVENT
DTSTART;VALUE=DATE:20170922
DTEND;VALUE=DATE:20170924
DTSTAMP:20260421T003141
CREATED:20170110T005646Z
LAST-MODIFIED:20170110T005646Z
UID:1512-1506038400-1506211199@staging.ultracycling.com
SUMMARY:Texas Iron Butt 24H TT 2017
DESCRIPTION:The course is a scenic and challenging 26.5 mile loop\, with all riders completing 132.5 miles in 24 hours receiving a trophy. The 24H TT is a RAAM Qualifier.
URL:https://staging.ultracycling.com/calendar/texas-24-2017/
LOCATION:Glen Rose City Park (Rodeo Park)\, 1600 Northeast Big Bend Trail\, 1600 Northeast Big Bend Trail\, TX\, 76033\, United States
CATEGORIES:24 Hour,RAAM Qualifier,Timed
ATTACH;FMTTYPE=image/jpeg:https://staging.ultracycling.com/wp-content/uploads/2017/01/TT-logo.jpg
ORGANIZER;CN="Holland Racing":MAILTO:andrew.willis@hollandracing.net kelley.ables@hollandracing.net
END:VEVENT
BEGIN:VEVENT
DTSTART;VALUE=DATE:20170921
DTEND;VALUE=DATE:20170924
DTSTAMP:20260421T003141
CREATED:20170110T005231Z
LAST-MODIFIED:20170110T005231Z
UID:1509-1505952000-1506211199@staging.ultracycling.com
SUMMARY:Tejas 500 2017
DESCRIPTION:The Tejas 500 allows riders 48 hours (no 42 or 36 hour starts as in the past) to complete 19 laps of the Glen Rose time trial course.
URL:https://staging.ultracycling.com/calendar/tejas-500-2017/
LOCATION:Glen Rose City Park (Rodeo Park)\, 1600 Northeast Big Bend Trail\, 1600 Northeast Big Bend Trail\, TX\, 76033\, United States
CATEGORIES:500 Mile +,Distance,RAAM Qualifier
ATTACH;FMTTYPE=image/jpeg:https://staging.ultracycling.com/wp-content/uploads/2017/01/TT-logo.jpg
ORGANIZER;CN="Holland Racing":MAILTO:andrew.willis@hollandracing.net kelley.ables@hollandracing.net
END:VEVENT
BEGIN:VEVENT
DTSTART;VALUE=DATE:20170916
DTEND;VALUE=DATE:20170919
DTSTAMP:20260421T003141
CREATED:20161205T203237Z
LAST-MODIFIED:20161205T203237Z
UID:892-1505520000-1505779199@staging.ultracycling.com
SUMMARY:The Silver State 508 2017
DESCRIPTION:Founded by John Marino in 1983 and recognized as “The Toughest 48 hours in Sport”\, it is the world’s premier 48-hour ultra cycling race. This 508-mile bicycle race\, commonly known as “The 508\,” is revered the world over for its epic mountain climbs\, stark desert scenery\, desolate roads\, and its reputation as one of the toughest but most gratifying endurance challenges available\, bar none. The Silver State 508 is a Race Across AMerica (RAAM) Qualifier.
URL:https://staging.ultracycling.com/calendar/the-silver-state-508-2017/
LOCATION:Atlantis Casino Resort\, 3800 S Virginia St\, Reno\, NV\, 89502\, United States
CATEGORIES:500 Mile +,Distance,RAAM Qualifier
ATTACH;FMTTYPE=image/jpeg:https://staging.ultracycling.com/wp-content/uploads/2016/12/ss508-e1480941093315.jpg
ORGANIZER;CN="Adventure Corps":MAILTO:adventurecorps@gmail.com
END:VEVENT
BEGIN:VEVENT
DTSTART;VALUE=DATE:20170916
DTEND;VALUE=DATE:20170918
DTSTAMP:20260421T003141
CREATED:20161121T032424Z
LAST-MODIFIED:20161121T032424Z
UID:705-1505520000-1505692799@staging.ultracycling.com
SUMMARY:Brands Hatch Revolve 24 2017
DESCRIPTION:The 24 hour format\, racing around motor racing circuit Brand’s Hatch\, is a qualifier for RAAM
URL:https://staging.ultracycling.com/calendar/brands-hatch-revolve-24-2017/
LOCATION:Brand’s Hatch\, West Kingsdown\, Longfield\, DA3 8PU\, United States
CATEGORIES:24 Hour,RAAM Qualifier,Timed
ATTACH;FMTTYPE=image/jpeg:https://staging.ultracycling.com/wp-content/uploads/2016/11/Revolve-24-e1479748679245.jpg
ORGANIZER;CN="Revolve 24":MAILTO:r24team@revolve24.com
END:VEVENT
BEGIN:VEVENT
DTSTART;VALUE=DATE:20170916
DTEND;VALUE=DATE:20170917
DTSTAMP:20260421T003141
CREATED:20161121T032424Z
LAST-MODIFIED:20161121T032424Z
UID:708-1505520000-1505606399@staging.ultracycling.com
SUMMARY:RAAM Challenge Ohio 400 2017
DESCRIPTION:The route features the rivers and rolling hills of central and southeastern Ohio.  Riders follow part of the RAAM route in reverse\, heading west through Chillicothe to Greenfield
URL:https://staging.ultracycling.com/calendar/raam-challenge-ohio-400-2017/
LOCATION:Coffman Park\, 5200 Emerald Pkwy\, Dublin\, OH\, 43017\, United States
CATEGORIES:400 Mile,Distance,RAAM Qualifier
ATTACH;FMTTYPE=image/jpeg:https://staging.ultracycling.com/wp-content/uploads/2016/11/RAAM-Ohio-e1483983453589.jpg
END:VEVENT
BEGIN:VEVENT
DTSTART;VALUE=DATE:20170906
DTEND;VALUE=DATE:20170908
DTSTAMP:20260421T003141
CREATED:20161121T032423Z
LAST-MODIFIED:20161121T032423Z
UID:702-1504656000-1504828799@staging.ultracycling.com
SUMMARY:IL24TE - Israeli 24 Hour 2017
DESCRIPTION:A main loop of 27.6km on quiet\, flat\, roads south of Tel Aviv
URL:https://staging.ultracycling.com/calendar/il24te-israeli-24-hour-2017/
LOCATION:IL24TE Start\, Urim Junction\, Israel
CATEGORIES:24 Hour,RAAM Qualifier,Timed
ATTACH;FMTTYPE=image/jpeg:https://staging.ultracycling.com/wp-content/uploads/2016/11/Israel.jpg
ORGANIZER;CN="IL24TE":MAILTO:israel24te@gmail.com
END:VEVENT
BEGIN:VEVENT
DTSTART;VALUE=DATE:20170827
DTEND;VALUE=DATE:20170902
DTSTAMP:20260421T003141
CREATED:20161121T032423Z
LAST-MODIFIED:20161121T032423Z
UID:699-1503792000-1504310399@staging.ultracycling.com
SUMMARY:Race Around Ireland 2017
DESCRIPTION:The cyclists in RAI have a 2\,150km journey past some of the most stunning scenery in Ireland\, Newgrange\, The Causeway Coast\, Malin Head\, The Cliffs of Moher\, The Ring of Kerry\, Mizen Head\, the Garden County (Wicklow) and back to Moynalty in County Meath. ALL within a week. The solo riders have 132 hours to finish
URL:https://staging.ultracycling.com/calendar/race-around-ireland-2017/
LOCATION:Race Around Ireland Start\, Trim\, County Meath\, Ireland
CATEGORIES:1000 Mile +,Distance,RAAM Qualifier
ATTACH;FMTTYPE=image/jpeg:https://staging.ultracycling.com/wp-content/uploads/2016/11/RAI-logo-e1483983407124.jpg
ORGANIZER;CN="Alan Heary":MAILTO:alan@racearoundireland.com
END:VEVENT
BEGIN:VEVENT
DTSTART;VALUE=DATE:20170827
DTEND;VALUE=DATE:20170831
DTSTAMP:20260421T003141
CREATED:20161121T032422Z
LAST-MODIFIED:20161121T032422Z
UID:698-1503792000-1504137599@staging.ultracycling.com
SUMMARY:Irish Ultra Challenge 2017
DESCRIPTION:The riders in the Irish Ultra Challenge have a 1\,100km race. This race is seen as the perfect stepping-stone into the world of ultra-cycling. Solo riders have 68 hours to finish
URL:https://staging.ultracycling.com/calendar/irish-ultra-challenge-2017/
LOCATION:Race Around Ireland Start\, Trim\, County Meath\, Ireland
CATEGORIES:500 Mile +,Distance,RAAM Qualifier
ATTACH;FMTTYPE=image/jpeg:https://staging.ultracycling.com/wp-content/uploads/2016/11/irish-e1483983387435.jpg
ORGANIZER;CN="Alan Heary":MAILTO:alan@racearoundireland.com
END:VEVENT
BEGIN:VEVENT
DTSTART;VALUE=DATE:20170826
DTEND;VALUE=DATE:20170828
DTSTAMP:20260421T003141
CREATED:20170108T041054Z
LAST-MODIFIED:20170108T041054Z
UID:1431-1503705600-1503878399@staging.ultracycling.com
SUMMARY:Swedish Ultrabike 610 2017
DESCRIPTION:The only “RAAM-style” race in Scandinavia with prize money! The course takes you through sparsely populated areas and past beautiful lakes in vast pine Forests\, on roads with very limited traffic. Many short climbs add up to nearly 5000 meters of elevation gain.
URL:https://staging.ultracycling.com/calendar/swedish-ultrabike-610-2017/
LOCATION:Swedish Ultrabike Start\, Koping\, Sweden
CATEGORIES:400 Mile,Distance,RAAM Qualifier
ATTACH;FMTTYPE=image/jpeg:https://staging.ultracycling.com/wp-content/uploads/2017/01/ck_yellow_blue_triangel_jpeg-e1483819812184.jpg
ORGANIZER;CN="CK Distans":MAILTO:info@ckdistans.se
END:VEVENT
BEGIN:VEVENT
DTSTART;VALUE=DATE:20170825
DTEND;VALUE=DATE:20170828
DTSTAMP:20260421T003141
CREATED:20170103T010127Z
LAST-MODIFIED:20170103T010127Z
UID:1404-1503619200-1503878399@staging.ultracycling.com
SUMMARY:D+ Ultracycling Dolomitica 2017
DESCRIPTION:A 624km race in Italy\, covering 16 mountain passes with 16000m of ascent\, starting and finishing in Cison di Valmarino.
URL:https://staging.ultracycling.com/calendar/d-ultracycling-dolomitica-2017/
LOCATION:Ultracycling Dolomitica Start\, Cison di Valmarino\, Treviso\, Italy
CATEGORIES:400 Mile,Distance,RAAM Qualifier
ATTACH;FMTTYPE=image/jpeg:https://staging.ultracycling.com/wp-content/uploads/2017/01/logo-Dolo-piccolo2-e1483376437104.jpg
ORGANIZER;CN="Ultracycling Dolomitica":MAILTO:info@ultracyclingdolomitica.com
END:VEVENT
BEGIN:VEVENT
DTSTART;VALUE=DATE:20170825
DTEND;VALUE=DATE:20170827
DTSTAMP:20260421T003141
CREATED:20161121T032422Z
LAST-MODIFIED:20161121T032422Z
UID:697-1503619200-1503791999@staging.ultracycling.com
SUMMARY:Hoodoo 500 2017
DESCRIPTION:The route goes through\, around or by three National Parks: Zion\, Bryce and Capitol Reef; three National Monuments: Pipe Springs\, Grand Staircase-Escalante and Cedar Breaks; countless Utah State Parks including Anasazi\, Coral Pink Sand Dunes\, Kodachrome and Snow Canyon\, and meanders in and out of the Dixie National Forest
URL:https://staging.ultracycling.com/calendar/hoodoo-500-2017/
LOCATION:Hoodoo Start\, 1129 S Bluff Street\, St George\, UT\, United States
CATEGORIES:500 Mile +,Distance,RAAM Qualifier
ATTACH;FMTTYPE=image/png:https://staging.ultracycling.com/wp-content/uploads/2016/11/logo.png
ORGANIZER;CN="Planet Ultra":MAILTO:embassy@planetultra.com
END:VEVENT
BEGIN:VEVENT
DTSTART;VALUE=DATE:20170819
DTEND;VALUE=DATE:20170820
DTSTAMP:20260421T003141
CREATED:20161121T192953Z
LAST-MODIFIED:20161121T192953Z
UID:763-1503100800-1503187199@staging.ultracycling.com
SUMMARY:Mid-Atlantic 24 2017
DESCRIPTION:The 26 mile loop will take you around rural areas of Beaufort County. Located in the coastal region on North Carolina\, his is a very flat course! It’s the perfect venue for riders that are Self Supported
URL:https://staging.ultracycling.com/calendar/mid-atlantic-24-2017-2/
LOCATION:Washington High School\, 400 Slatestone Road\, Washington\, NC\, 27889\, United States
CATEGORIES:24 Hour,RAAM Qualifier,Timed
ATTACH;FMTTYPE=image/jpeg:https://staging.ultracycling.com/wp-content/uploads/2016/11/Mid-Atlantic.jpg
ORGANIZER;CN="Mid-Atlantic Ultra Sports":MAILTO:maxwell@midatlanticultrasports.com
END:VEVENT
BEGIN:VEVENT
DTSTART;VALUE=DATE:20170818
DTEND;VALUE=DATE:20170821
DTSTAMP:20260421T003141
CREATED:20161121T032426Z
LAST-MODIFIED:20161121T032426Z
UID:714-1503014400-1503273599@staging.ultracycling.com
SUMMARY:Ultra Défi vee Kombucha 2017
DESCRIPTION:A loop of 1000km to do in less than 62h by bike
URL:https://staging.ultracycling.com/calendar/ultra-defi-vee-kombucha-2017/
LOCATION:Ultra Defi Start\, Valinouët\, Quebec\, Canada
CATEGORIES:500 Mile +,Distance,RAAM Qualifier
ATTACH;FMTTYPE=image/jpeg:https://staging.ultracycling.com/wp-content/uploads/2016/11/Ultra-Defi.jpg
ORGANIZER;CN="RUQ":MAILTO:sylvain@ultradefi.com
END:VEVENT
BEGIN:VEVENT
DTSTART;VALUE=DATE:20170818
DTEND;VALUE=DATE:20170820
DTSTAMP:20260421T003141
CREATED:20161121T032421Z
LAST-MODIFIED:20161121T032421Z
UID:691-1503014400-1503187199@staging.ultracycling.com
SUMMARY:TorTour 2017
DESCRIPTION:
URL:https://staging.ultracycling.com/calendar/tortour-2017/
LOCATION:IWC Arena Schaffhausen\, Breitenaustrasse 117\, Schaffhausen\, 8200\, Switzerland
CATEGORIES:500 Mile +,Distance,RAAM Qualifier
ATTACH;FMTTYPE=image/jpeg:https://staging.ultracycling.com/wp-content/uploads/2016/11/Tortour-e1483983344486.jpg
ORGANIZER;CN="TorTour":MAILTO:marianne.johann@tortour.ch
END:VEVENT
BEGIN:VEVENT
DTSTART;VALUE=DATE:20170807
DTEND;VALUE=DATE:20170811
DTSTAMP:20260421T003141
CREATED:20161121T032420Z
LAST-MODIFIED:20161121T032420Z
UID:687-1502064000-1502409599@staging.ultracycling.com
SUMMARY:Race Around Austria 2017
DESCRIPTION:Cycle 2\,200 kilometers (including 30\,000 meters of climbing) NONSTOP once around Austria on streets that run along or near the border
URL:https://staging.ultracycling.com/calendar/race-around-austria-2017/
LOCATION:Attergau\, St. Georgen im Attergau\, A-4880\, Austria
CATEGORIES:1000 Mile +,Distance,RAAM Qualifier
ATTACH;FMTTYPE=image/png:https://staging.ultracycling.com/wp-content/uploads/2016/11/RAA-e1479748579346.png
END:VEVENT
BEGIN:VEVENT
DTSTART;VALUE=DATE:20170805
DTEND;VALUE=DATE:20170806
DTSTAMP:20260421T003141
CREATED:20161121T032420Z
LAST-MODIFIED:20161121T032420Z
UID:686-1501891200-1501977599@staging.ultracycling.com
SUMMARY:RAAM Challenge Minnesota 400 2017
DESCRIPTION:Cycling around the confluence of the Mississippi and Minnesota Rivers\, and near the Twin Cities of Minneapolis and St. Paul\, the route passes through beautiful prairie and rolling hills\, along rivers and lake shore
URL:https://staging.ultracycling.com/calendar/raam-challenge-minnesota-400-2017/
LOCATION:Lake Rebecca Park\, Hastings\, MN\, 55033\, United States
CATEGORIES:400 Mile,Distance,RAAM Qualifier
ATTACH;FMTTYPE=image/jpeg:https://staging.ultracycling.com/wp-content/uploads/2016/11/RAAM-Minnesota-e1483983322226.jpg
END:VEVENT
BEGIN:VEVENT
DTSTART;VALUE=DATE:20170722
DTEND;VALUE=DATE:20170724
DTSTAMP:20260421T003141
CREATED:20161121T032419Z
LAST-MODIFIED:20161121T032419Z
UID:683-1500681600-1500854399@staging.ultracycling.com
SUMMARY:Mersey Roads 24 2017
DESCRIPTION:Set beside a trucker’s café on an A-road in the Merseyside region of the UK\, exists one of the country’s oldest and most gruelling bike races. The Mersey Roads 24 Hour time trial sees over 100 competitors cycle superhuman distances of up to 537 miles (859km) over a 24-hour period.
URL:https://staging.ultracycling.com/calendar/mersey-roads-24-2017/
LOCATION:Mersey 24H TT Start\, Farndon\, Merseyside\, United Kingdom
CATEGORIES:24 Hour,Championship,RAAM Qualifier,Timed
ATTACH;FMTTYPE=image/jpeg:https://staging.ultracycling.com/wp-content/uploads/2016/11/Mersey-24-300.jpg
ORGANIZER;CN="Mersey Roads Club":MAILTO:oggy_merseyroads@hotmail.com
END:VEVENT
BEGIN:VEVENT
DTSTART;VALUE=DATE:20170715
DTEND;VALUE=DATE:20170718
DTSTAMP:20260421T003141
CREATED:20161121T032419Z
LAST-MODIFIED:20161121T032419Z
UID:682-1500076800-1500335999@staging.ultracycling.com
SUMMARY:Race Across Oregon 2017
DESCRIPTION:Race Across Oregon is the best qualifier to prepare you to compete in RAAM. RAO features hot and dry weather and almost 42\,000 feet of climbing over the 522 mile course.
URL:https://staging.ultracycling.com/calendar/race-across-oregon-2017/
LOCATION:Race Across Oregon Start\, 2014 W 7th St\, The Dalles\, OR\, 97058\, United States
CATEGORIES:500 Mile +,Distance,RAAM Qualifier
ATTACH;FMTTYPE=image/jpeg:https://staging.ultracycling.com/wp-content/uploads/2016/11/Oregon.jpg
ORGANIZER;CN="George Thomas":MAILTO:raogeorge@gmail.com
END:VEVENT
BEGIN:VEVENT
DTSTART;VALUE=DATE:20170707
DTEND;VALUE=DATE:20170709
DTSTAMP:20260421T003141
CREATED:20170109T020015Z
LAST-MODIFIED:20170109T020015Z
UID:1470-1499385600-1499558399@staging.ultracycling.com
SUMMARY:Fireweed 400 2017
DESCRIPTION:The 400-mile course starts at Sheep Mountain Lodge\, follows the same route as the 200-mile course through Glennallen and into Valdez. The course then turns around at Captain Joe’s Gas Station\, 139 Pioneer Drive\, in Valdez and returns by the same route to Sheep Mountain Lodge.
URL:https://staging.ultracycling.com/calendar/fireweed-400-2017/
LOCATION:Fireweed 400 Start – Sheep Mountain Lodge\, 17701 W Glenn Hwy\, Sutton\, AK\, 99674\, United States
CATEGORIES:400 Mile,Distance,RAAM Qualifier
ATTACH;FMTTYPE=image/jpeg:https://staging.ultracycling.com/wp-content/uploads/2017/01/Fireweed-e1483898388171.jpg
END:VEVENT
BEGIN:VEVENT
DTSTART;VALUE=DATE:20170630
DTEND;VALUE=DATE:20170703
DTSTAMP:20260421T003141
CREATED:20170108T044347Z
LAST-MODIFIED:20170108T044347Z
UID:1443-1498780800-1499039999@staging.ultracycling.com
SUMMARY:Race Across Germany 1100km 2017
DESCRIPTION:The route across Germany takes solo and team racers from Flensburg in the North to Garmisch-Partenkirchenin the South. This 1100km race (with 7500m of ascent) is a RAAM qualifier.
URL:https://staging.ultracycling.com/calendar/race-across-germany-1100km-2017/
LOCATION:Race Across Germany N-S Start\, Flensburg\, Germany
CATEGORIES:500 Mile +,Distance,RAAM Qualifier
ATTACH;FMTTYPE=image/jpeg:https://staging.ultracycling.com/wp-content/uploads/2017/01/germany.jpg
ORGANIZER;CN="G%C3%B6pfert Agentur UG":MAILTO:info@goepfert-agentur.de
END:VEVENT
BEGIN:VEVENT
DTSTART;VALUE=DATE:20170619
DTEND;VALUE=DATE:20170625
DTSTAMP:20260421T003141
CREATED:20170227T211112Z
LAST-MODIFIED:20170227T211112Z
UID:2773-1497830400-1498348799@staging.ultracycling.com
SUMMARY:HardCro Ultra Race 2017
DESCRIPTION:The challenge consists of completing 1450km in less than 5 days\, cycling through the most attractive locations in Croatia\, from south to west\, north and east. Solo or pairs and self supported.
URL:https://staging.ultracycling.com/calendar/hardcro-ultra-race-2017/
LOCATION:HardCro Start\, Molunat\, Croatia (Local Name: Hrvatska)
CATEGORIES:500 Mile +,Distance,RAAM Qualifier
ATTACH;FMTTYPE=image/jpeg:https://staging.ultracycling.com/wp-content/uploads/2017/02/HardCro-e1488200795859.jpg
ORGANIZER;CN="BK Samo Sport":MAILTO:info@hardcro.com
END:VEVENT
BEGIN:VEVENT
DTSTART;VALUE=DATE:20170614
DTEND;VALUE=DATE:20170618
DTSTAMP:20260421T003141
CREATED:20170108T043345Z
LAST-MODIFIED:20170108T043345Z
UID:1441-1497398400-1497743999@staging.ultracycling.com
SUMMARY:Glocknerman CLASSIC 2017
DESCRIPTION:With 888 km and 12.500 metres of altitude the Classic route leads the athletes over 50 years of age from Graz to Winklern\, through the Lesachtal\, on the Großglockner and back to Graz. The race is a RAAM qualifier.
URL:https://staging.ultracycling.com/calendar/glocknerman-classic-2017/
LOCATION:Glocknerman Start\, Graz\, Austria
CATEGORIES:500 Mile +,Distance,RAAM Qualifier
ATTACH;FMTTYPE=image/png:https://staging.ultracycling.com/wp-content/uploads/2017/01/glocknerman_logo_ohnetext-e1483983255989.png
END:VEVENT
BEGIN:VEVENT
DTSTART;VALUE=DATE:20170614
DTEND;VALUE=DATE:20170618
DTSTAMP:20260421T003141
CREATED:20170108T043124Z
LAST-MODIFIED:20170108T043124Z
UID:1436-1497398400-1497743999@staging.ultracycling.com
SUMMARY:Glocknerman ULTRA 2017
DESCRIPTION:Start and finish is in the styrian capital Graz and routes the athletes over 1000 kilometre and 17.000 metres in altitude twice over the highest austrian mountain\, the Großglockner. The race is a RAAM qualifier.
URL:https://staging.ultracycling.com/calendar/glocknerman-ultra-2017/
LOCATION:Glocknerman Start\, Graz\, Austria
CATEGORIES:500 Mile +,Distance,RAAM Qualifier
ATTACH;FMTTYPE=image/png:https://staging.ultracycling.com/wp-content/uploads/2017/01/glocknerman_logo_ohnetext-e1483983255989.png
END:VEVENT
BEGIN:VEVENT
DTSTART;VALUE=DATE:20170613
DTEND;VALUE=DATE:20170626
DTSTAMP:20260421T003141
CREATED:20161121T032418Z
LAST-MODIFIED:20161121T032418Z
UID:676-1497312000-1498435199@staging.ultracycling.com
SUMMARY:Race Across America 2017
DESCRIPTION:The route travels west to east across the North American continent\, traversing three major mountain ranges (Sierra\, Rocky and Appalachian)\, crossing four of America’s longest rivers (Colorado\, Mississippi\, Missouri and Ohio) and the Great Plains.  Also\, passing through such iconic American landmarks as the Mojave and Sonoran Deserts\, Monument Valley\, Great Plains and Gettysburg. Finishing the RAAM is seen by many as the pinnacle of ultracycling achievement
URL:https://staging.ultracycling.com/calendar/race-across-america-2017/
LOCATION:Oceanside Pier\, The Strand N\, Oceanside\, CA\, 92054\, United States
CATEGORIES:1000 Mile +,Distance,RAAM Qualifier
ATTACH;FMTTYPE=image/jpeg:https://staging.ultracycling.com/wp-content/uploads/2016/11/RAAM.jpg
END:VEVENT
BEGIN:VEVENT
DTSTART;VALUE=DATE:20170613
DTEND;VALUE=DATE:20170618
DTSTAMP:20260421T003141
CREATED:20161121T032418Z
LAST-MODIFIED:20161121T032418Z
UID:677-1497312000-1497743999@staging.ultracycling.com
SUMMARY:Race Across The West 2017
DESCRIPTION:The first 860 miles of RAAM\, traversing some of the most beautiful country in the west\, leaving the beach in Oceanside\, climbing the Coastal Range and the dropping into the scorching desert.  After crossing the deserts of California and Arizona\, racers begin a gradual climb into the mountains surrounding Flagstaff\, AZ and eventually into the Rocky Mountains. The race finishes on the Animas River in the cycling mecca of Durango\, CO. The RAW is a qualifying event for RAAM
URL:https://staging.ultracycling.com/calendar/race-across-the-west-2017/
LOCATION:Oceanside Pier\, The Strand N\, Oceanside\, CA\, 92054\, United States
CATEGORIES:500 Mile +,Distance,RAAM Qualifier
ATTACH;FMTTYPE=image/jpeg:https://staging.ultracycling.com/wp-content/uploads/2016/11/RAW-e1479748600570.jpg
END:VEVENT
BEGIN:VEVENT
DTSTART;VALUE=DATE:20170603
DTEND;VALUE=DATE:20170605
DTSTAMP:20260421T003141
CREATED:20161121T032418Z
LAST-MODIFIED:20161121T032418Z
UID:675-1496448000-1496620799@staging.ultracycling.com
SUMMARY:Xtreme Melfar 24hr Cycling Challenge (non-drafting) 2017
DESCRIPTION:A 3 loop course\, comprising a day loop in countryside with rolling hills\, a night loop in town and along the sea\, with street lights\, and a final fast loop for the last hour of the race. The non-drafting version is a qualifier for RAAM \n  \nLinks: \n\nOrganizer’s Results\, male\nOrganizer’s Results\, female
URL:https://staging.ultracycling.com/calendar/xtreme-melfar-24hr-cycling-challenge-non-drafting-2017/
LOCATION:Melfar Start\, Strib\, Denmark
CATEGORIES:24 Hour,RAAM Qualifier,Timed
ATTACH;FMTTYPE=image/jpeg:https://staging.ultracycling.com/wp-content/uploads/2016/11/Melfar-e1479749187177.jpg
END:VEVENT
BEGIN:VEVENT
DTSTART;VALUE=DATE:20170513
DTEND;VALUE=DATE:20170514
DTSTAMP:20260421T003141
CREATED:20161121T032416Z
LAST-MODIFIED:20161121T032416Z
UID:667-1494633600-1494719999@staging.ultracycling.com
SUMMARY:RAAM Challenge S. California 400 2017
DESCRIPTION:The 400-mile course follows significant portions of the current and past RAAM routes. Nearly 150 miles of the 400-mile course are below sea level. Racers get the RAAM experience\, but without the intense summer desert heat
URL:https://staging.ultracycling.com/calendar/raam-challenge-s-california-400-2017/
LOCATION:Mance Buchanon Park\, 425 College Blvd\, Oceanside\, CA\, 92057\, United States
CATEGORIES:400 Mile,Distance,RAAM Qualifier
ATTACH;FMTTYPE=image/png:https://staging.ultracycling.com/wp-content/uploads/2016/11/RAAM-California-e1479748609514.png
END:VEVENT
END:VCALENDAR